BEGIN:VCALENDAR
VERSION:2.0
PRODID:-//Global Business Travel Association - GBTA - ECPv6.9.0//NONSGML v1.0//EN
CALSCALE:GREGORIAN
METHOD:PUBLISH
X-ORIGINAL-URL:https://gbta.org/es
X-WR-CALDESC:Eventos para Global Business Travel Association - GBTA
REFRESH-INTERVAL;VALUE=DURATION:PT1H
X-Robots-Tag:noindex
X-PUBLISHED-TTL:PT1H
BEGIN:VTIMEZONE
TZID:America/New_York
BEGIN:DAYLIGHT
TZOFFSETFROM:-0500
TZOFFSETTO:-0400
TZNAME:EDT
DTSTART:20220313T070000
END:DAYLIGHT
BEGIN:STANDARD
TZOFFSETFROM:-0400
TZOFFSETTO:-0500
TZNAME:EST
DTSTART:20221106T060000
END:STANDARD
END:VTIMEZONE
BEGIN:VEVENT
DTSTART;TZID=America/New_York:20220921T100000
DTEND;TZID=America/New_York:20220921T123000
DTSTAMP:20260421T140336
CREATED:20220822T071051Z
LAST-MODIFIED:20220908T154921Z
UID:6138-1663754400-1663763400@gbta.org
SUMMARY:Carrefour des Experts Travel & MICE par GBTA
DESCRIPTION:Mercredi 21 septembre de 10h00 à 12h30\, suivi d’un cocktail déjeunatoire\nA l’IFTM Top Résa\, le salon professionnel du tourisme et des voyages\, \n\n\n\n10h00-11h15\nMetaverse : tendance éphémère ou futur des voyages et événements ?  \nPour certains le Metaverse est une tendance passagère. Pour d’autres\, il représente la plus grande opportunité pour le secteur des voyages\, réunions et événements de ces dix dernières années. \nIl révolutionnera l’expérience du participant et sera un vecteur d’optimisation du ROI événementiel des marques. \nIl marquera aussi un nouveau bouleversement du voyage d’affaires en allant encore plus loin dans l’usage de la technologie dans les modèles de distribution. \nQu’est-ce que le Metaverse ? Comment il peut être appliqué au Business Travel et à l’événementiel ? Est-ce qu’il répondra aux attentes futures de publics cibles ? Quels sont les acteurs clé ? Quelles approches pour intégrer le Metaverse dans les voyages\, réunions et événements ? \nCette session aura pour objectifs de vous éclairer sur l’ensemble de ces questions.\n\n\n11h30-12h30\nLe Travel et le MICE : des catégories d’Achat globales ou locales ?\nDans les groupes internationaux\, le Travel est souvent géré de façon globale\, avec des relais Acheteurs et Travel Managers locaux. Mais à l’heure du post-covid et de la RSE\, l’inclusion d’acteurs locaux ou de pratiques locales dans la gestion de la catégorie a-t-elle un sens ? Quelle stratégie pour la catégorie MICE qui\, d’un point de vue achat\, a une maturité différente du Travel et qui a des racines très encrées localement ?DATE : Mercredi 21 septembre 2022\, 10h00-12h30\n(cocktail déjeunatoire à l’issue de l’événement)LIEU :\nParc des Expositions de la Porte de Versailles\nHall 1\n1\, Place de la Porte de Versailles\, 75015 PARIS\nEspace 2000\, niveau 1\n\n\n\nTarifs D’inscription \n\nMembres acheteurs – 0€\nPartenaires foumisseurs – 0€\nNon membres acheteurs – 45€\nMembres fourmisseurs – 45€\nNon membres fourmisseur – 265€\n\nEn savoir plus
URL:https://gbta.org/es/event/carrefour-des-experts-travel-mice-par-gbta/
LOCATION:in-person
CATEGORIES:Europe,France,Summits & Workshops
END:VEVENT
END:VCALENDAR