BEGIN:VCALENDAR
VERSION:2.0
PRODID:-//Global Business Travel Association - GBTA - ECPv6.9.0//NONSGML v1.0//EN
CALSCALE:GREGORIAN
METHOD:PUBLISH
X-WR-CALNAME:Global Business Travel Association - GBTA
X-ORIGINAL-URL:https://gbta.org/es
X-WR-CALDESC:Eventos para Global Business Travel Association - GBTA
REFRESH-INTERVAL;VALUE=DURATION:PT1H
X-Robots-Tag:noindex
X-PUBLISHED-TTL:PT1H
BEGIN:VTIMEZONE
TZID:Europe/Rome
BEGIN:DAYLIGHT
TZOFFSETFROM:+0100
TZOFFSETTO:+0200
TZNAME:CEST
DTSTART:20220327T010000
END:DAYLIGHT
BEGIN:STANDARD
TZOFFSETFROM:+0200
TZOFFSETTO:+0100
TZNAME:CET
DTSTART:20221030T010000
END:STANDARD
END:VTIMEZONE
BEGIN:VEVENT
DTSTART;TZID=Europe/Rome:20221005T093000
DTEND;TZID=Europe/Rome:20221005T160000
DTSTAMP:20260420T064039
CREATED:20220728T184409Z
LAST-MODIFIED:20220830T145359Z
UID:3023-1664962200-1664985600@gbta.org
SUMMARY:GBTA Conference 2022 – Milano
DESCRIPTION:GBTA Italy Annual Conference Milan – 5 October\, 9:30 – 16:00 CEST. The annual gathering of the Italian Business Travel and MICE community. \nDuring a full day conference\, 25 speakers will deep dive into the current main business travel market trends: Sustainability\, New Market Opportunities\, Diversity & Inclusion\, Digitalization and the evolution of the meetings management. \nWith the active involvement of the audience\, we will define the market priorities and design the strategies to fulfil them. Networking\, best practice sharing and education sessions will provide the knowledge and the critical take-aways to face the future successfully. \nMore information
URL:https://gbta.org/es/event/gbta-conference-2022-milano/
LOCATION:in-person
CATEGORIES:Conference/Convention,Europe
ATTACH;FMTTYPE=image/jpeg:https://gbta.org/wp-content/uploads/Milano.jpg
END:VEVENT
END:VCALENDAR