BEGIN:VCALENDAR
VERSION:2.0
PRODID:-//Global Business Travel Association - GBTA - ECPv6.9.0//NONSGML v1.0//EN
CALSCALE:GREGORIAN
METHOD:PUBLISH
X-ORIGINAL-URL:https://gbta.org/es
X-WR-CALDESC:Eventos para Global Business Travel Association - GBTA
REFRESH-INTERVAL;VALUE=DURATION:PT1H
X-Robots-Tag:noindex
X-PUBLISHED-TTL:PT1H
BEGIN:VTIMEZONE
TZID:America/New_York
BEGIN:DAYLIGHT
TZOFFSETFROM:-0500
TZOFFSETTO:-0400
TZNAME:EDT
DTSTART:20220313T070000
END:DAYLIGHT
BEGIN:STANDARD
TZOFFSETFROM:-0400
TZOFFSETTO:-0500
TZNAME:EST
DTSTART:20221106T060000
END:STANDARD
END:VTIMEZONE
BEGIN:VEVENT
DTSTART;TZID=America/New_York:20221101T100000
DTEND;TZID=America/New_York:20221101T130000
DTSTAMP:20260420T064218
CREATED:20220803T180943Z
LAST-MODIFIED:20220825T021916Z
UID:3821-1667296800-1667307600@gbta.org
SUMMARY:Global Leadership Professional® (GLP) Leadership Competency
DESCRIPTION:Date: Nov. 1-3 \nTime: 10:00 AM – 1:00 PM ET each day \nThe GLP Program offers a wide range of benefits to participants and their organizations\, including \n\nEngage with network of global peers who value professional development\nUtilize advanced business principles and best practices\nInteract with renowned academics and industry experts\nDevelop team approaches and strategies for solving problems\nEarn recognition for your achievement\n\nInstructor: Sean Martin\, Associate Professor of Business Administration\, University of Virginia\, Darden School of Business \nFor more information\, see Global Leadership Professional® (GLP) Program
URL:https://gbta.org/es/event/global-leadership-professional-glp-leadership-competency/
LOCATION:Virtual
CATEGORIES:Europe,Italy,Learning,North America,Summits & Workshops
END:VEVENT
END:VCALENDAR