BEGIN:VCALENDAR
VERSION:2.0
PRODID:-//Global Business Travel Association - GBTA - ECPv6.9.0//NONSGML v1.0//EN
CALSCALE:GREGORIAN
METHOD:PUBLISH
X-WR-CALNAME:Global Business Travel Association - GBTA
X-ORIGINAL-URL:https://gbta.org/es
X-WR-CALDESC:Eventos para Global Business Travel Association - GBTA
REFRESH-INTERVAL;VALUE=DURATION:PT1H
X-Robots-Tag:noindex
X-PUBLISHED-TTL:PT1H
BEGIN:VTIMEZONE
TZID:America/New_York
BEGIN:DAYLIGHT
TZOFFSETFROM:-0500
TZOFFSETTO:-0400
TZNAME:EDT
DTSTART:20220313T070000
END:DAYLIGHT
BEGIN:STANDARD
TZOFFSETFROM:-0400
TZOFFSETTO:-0500
TZNAME:EST
DTSTART:20221106T060000
END:STANDARD
END:VTIMEZONE
BEGIN:VEVENT
DTSTART;TZID=America/New_York:20221207T110000
DTEND;TZID=America/New_York:20221207T120000
DTSTAMP:20260420T031128
CREATED:20221111T041114Z
LAST-MODIFIED:20221121T135805Z
UID:8048-1670410800-1670414400@gbta.org
SUMMARY:Global Business Travel Index (BTI)™: Outlook for Global Business Travel 2022 – 2026
DESCRIPTION:For the past 14 years\, the BTI has been a signature GBTA research study. It is a critical industry planning tool that provides an exhaustive study of business travel spending and growth covering 75 countries across 48 industries and provides a five-year forward looking forecast. It provides demand-side measurements of all types of business trips and all spending while on a trip. This includes everything spent on business travel including airfare\, hotel\, dining\, car rental\, train travel\, incidental purchases made during the trip\, taxi/ride sharing\, etc. In addition\, it is the industry benchmark for business travel spend and receives considerable media coverage. \nIn partnership with Mastercard\, this session will examine key topics including: business travel trends between 2019 – 2022\, insights into business travelers’ sentiment toward returning to travel\, how sustainability and technology are changing business travel\, and more. Join us for a look at the state of the industry and what’s likely in store for the next five years. \nEvent Speaker \n \n  \nLydie Charpin – Vice President of Corporate Travel and Spend Management\, Mastercard \n  \n  \n  \n \n  \nJon Grey – Principal\, Rockport Analytics \n  \n  \n  \nMade Possible by Mastercard
URL:https://gbta.org/es/event/global-business-travel-index-bti-outlook-for-global-business-travel-2022-2026/
LOCATION:Virtual
CATEGORIES:Online Courses & Webinars
END:VEVENT
END:VCALENDAR