BEGIN:VCALENDAR
VERSION:2.0
PRODID:-//Global Business Travel Association - GBTA - ECPv6.9.0//NONSGML v1.0//EN
CALSCALE:GREGORIAN
METHOD:PUBLISH
X-WR-CALNAME:Global Business Travel Association - GBTA
X-ORIGINAL-URL:https://gbta.org/es
X-WR-CALDESC:Eventos para Global Business Travel Association - GBTA
REFRESH-INTERVAL;VALUE=DURATION:PT1H
X-Robots-Tag:noindex
X-PUBLISHED-TTL:PT1H
BEGIN:VTIMEZONE
TZID:America/New_York
BEGIN:DAYLIGHT
TZOFFSETFROM:-0500
TZOFFSETTO:-0400
TZNAME:EDT
DTSTART:20230312T070000
END:DAYLIGHT
BEGIN:STANDARD
TZOFFSETFROM:-0400
TZOFFSETTO:-0500
TZNAME:EST
DTSTART:20231105T060000
END:STANDARD
END:VTIMEZONE
BEGIN:VEVENT
DTSTART;VALUE=DATE:20230214
DTEND;VALUE=DATE:20230215
DTSTAMP:20260419T232151
CREATED:20230130T114721Z
LAST-MODIFIED:20230202T155012Z
UID:8933-1676332800-1676419199@gbta.org
SUMMARY:Tennessee Chapter - Business Travel is Taking off: BNA Vision & Operational Updates - GTP Credit Approved
DESCRIPTION:Doug Kreulen\, MNAA’s President and CEO\, shares operational updates and how much business travel is taking off in 2023. BNA® is transforming. BNA® Vision is a growth and expansion plan in Metropolitan Nashville Airport Authority’s continued effort to maintain Nashville International Airport® as a world-class facility for the future of Nashville. \nEvent Speaker \nDoug Kreulen\, President & CEO | Metropolitan Nashville Airport Authority \nLocation of Event \nNashville\, TN \nVenue Information  \nHotel Fraye Nashville Midtown\, 1810 Broadway\, Nashville\, TN 37203 \nPricing and Registration \n$30.00 GBTA-TN Member Registration\n$40.00 after 12:00 pm February 10 \n$30.00 GBTA All-Access Registration\n$40.00 after 12:00 pm February 10 \n$40.00 Guest Registration\n$50.00 after 12:00 pm February 10
URL:https://gbta.org/es/event/tennessee-chapter-business-travel-is-taking-off-bna-vision-operational-updates/
CATEGORIES:North America,US Chapter Event
END:VEVENT
BEGIN:VEVENT
DTSTART;VALUE=DATE:20230214
DTEND;VALUE=DATE:20230215
DTSTAMP:20260419T232151
CREATED:20230210T085849Z
LAST-MODIFIED:20230210T090746Z
UID:9144-1676332800-1676419199@gbta.org
SUMMARY:Global Leadership Professionals (GLP) Program
DESCRIPTION:Global Leadership Program (GLP) is the only educational initiative designed to provide cutting-edge business insights and immersive learning experiences. Business travel leaders will use the acquired knowledge to address industry challenges and identify new opportunities. Perfect for senior-level industry professionals\, the GLP program allows participants to engage with a network of global peers and experts\, interact with world-renowned Cornell business professors\, develop team-focused strategies for problem-solving\, and earn recognition for your commitment and achievement to professional development. \nThe GLP program spans a 5-month period during which participants will join both synchronous and asynchronous online classes\, peer discussions\, and an in-person workshop at GBTA Convention in Dallas. \nScholarships  are available for GBTA Members and GBTA Chapter Members that have met the course requirements. \nIn Partnership with \n \n Learn More
URL:https://gbta.org/es/event/global-leadership-professionals-glp-program/
CATEGORIES:Learning
END:VEVENT
BEGIN:VEVENT
DTSTART;TZID=America/New_York:20230214T140000
DTEND;TZID=America/New_York:20230214T193000
DTSTAMP:20260419T232151
CREATED:20221215T170423Z
LAST-MODIFIED:20221222T143215Z
UID:8403-1676383200-1676403000@gbta.org
SUMMARY:Carrefour des Experts Travel & MICE par GBTA
DESCRIPTION:Educational and networking event for Business Travel and MICE professionals \nLocation of Event \nMetafore Liège – Blanche\, Paris\, France
URL:https://gbta.org/es/event/carrefour-des-experts-travel-mice-par-gbta-2/
LOCATION:in-person
CATEGORIES:Europe,France
END:VEVENT
END:VCALENDAR