BEGIN:VCALENDAR
VERSION:2.0
PRODID:-//Global Business Travel Association - GBTA - ECPv6.9.0//NONSGML v1.0//EN
CALSCALE:GREGORIAN
METHOD:PUBLISH
X-ORIGINAL-URL:https://gbta.org/es
X-WR-CALDESC:Eventos para Global Business Travel Association - GBTA
REFRESH-INTERVAL;VALUE=DURATION:PT1H
X-Robots-Tag:noindex
X-PUBLISHED-TTL:PT1H
BEGIN:VTIMEZONE
TZID:America/New_York
BEGIN:DAYLIGHT
TZOFFSETFROM:-0500
TZOFFSETTO:-0400
TZNAME:EDT
DTSTART:20230312T070000
END:DAYLIGHT
BEGIN:STANDARD
TZOFFSETFROM:-0400
TZOFFSETTO:-0500
TZNAME:EST
DTSTART:20231105T060000
END:STANDARD
END:VTIMEZONE
BEGIN:VEVENT
DTSTART;VALUE=DATE:20230306
DTEND;VALUE=DATE:20230307
DTSTAMP:20260420T005000
CREATED:20230301T074153Z
LAST-MODIFIED:20230306T064935Z
UID:9361-1678060800-1678147199@gbta.org
SUMMARY:Chicago Chapter - GBTA Chicago Q1 Government Relations Mtg - GTP Credit Approved
DESCRIPTION:Part 1: Understanding how to work with all the necessary government agencies when planning a US-based business meeting or event for international attendees. Also\, help for companies facing legal issues relating to immigration. \nPart 2: Recent developments in TSA programs processes and technology. \nEvent Speaker \nEddie Raleigh\, US Immigration Attorney | Fragomen’s Washington\, DC \nLocation of Event \nRosemont\, IL \nVenue Information \nThe OLC Education & Conference Center\, 9400 W Higgins Rd\, Rosemont\, IL 60018 \nPricing and registration \n$75.00 Member registration\n$125.00 Guest Registration
URL:https://gbta.org/es/event/chicago-chapter-gbta-chicago-q1-government-relations-mtg/
CATEGORIES:North America,US Chapter Event
END:VEVENT
END:VCALENDAR