BEGIN:VCALENDAR
VERSION:2.0
PRODID:-//Global Business Travel Association - GBTA - ECPv6.9.0//NONSGML v1.0//EN
CALSCALE:GREGORIAN
METHOD:PUBLISH
X-WR-CALNAME:Global Business Travel Association - GBTA
X-ORIGINAL-URL:https://gbta.org/es
X-WR-CALDESC:Eventos para Global Business Travel Association - GBTA
REFRESH-INTERVAL;VALUE=DURATION:PT1H
X-Robots-Tag:noindex
X-PUBLISHED-TTL:PT1H
BEGIN:VTIMEZONE
TZID:America/New_York
BEGIN:DAYLIGHT
TZOFFSETFROM:-0500
TZOFFSETTO:-0400
TZNAME:EDT
DTSTART:20230312T070000
END:DAYLIGHT
BEGIN:STANDARD
TZOFFSETFROM:-0400
TZOFFSETTO:-0500
TZNAME:EST
DTSTART:20231105T060000
END:STANDARD
END:VTIMEZONE
BEGIN:VEVENT
DTSTART;TZID=America/New_York:20230308T110000
DTEND;TZID=America/New_York:20230308T120000
DTSTAMP:20260419T212938
CREATED:20230210T091329Z
LAST-MODIFIED:20230214T125344Z
UID:9150-1678273200-1678276800@gbta.org
SUMMARY:Celebrating our Voices on International Women’s Day.  A Day to #EmbraceEquity
DESCRIPTION:International Women’s Day is a chance to celebrate women’s accomplishments and encourage worldwide engagement and collective action in advancing women’s equality. \nThis year’s theme is #EmbraceEquity. We can all challenge gender stereotypes\, call out discrimination\, draw attention to bias\, and seek out inclusion. We’ll share the voices of women in our industry from around the world as we celebrate social\, economic\, cultural\, and political achievements of women.  And we’ll share where we see gaps\, with simple ways we can rally together to drive change.  This session is powered by GBTA WINiT and made possible by Southwest Business. \nPricing and Registration \nSponsored | Complimentary \nPowered by\n \nMade Possible by
URL:https://gbta.org/es/event/celebrating-our-voices-on-international-womens-day-a-day-to-embraceequity/
CATEGORIES:North America,Online Courses & Webinars
END:VEVENT
END:VCALENDAR