BEGIN:VCALENDAR
VERSION:2.0
PRODID:-//Global Business Travel Association - GBTA - ECPv6.9.0//NONSGML v1.0//EN
CALSCALE:GREGORIAN
METHOD:PUBLISH
X-ORIGINAL-URL:https://gbta.org/es
X-WR-CALDESC:Eventos para Global Business Travel Association - GBTA
REFRESH-INTERVAL;VALUE=DURATION:PT1H
X-Robots-Tag:noindex
X-PUBLISHED-TTL:PT1H
BEGIN:VTIMEZONE
TZID:America/New_York
BEGIN:DAYLIGHT
TZOFFSETFROM:-0500
TZOFFSETTO:-0400
TZNAME:EDT
DTSTART:20230312T070000
END:DAYLIGHT
BEGIN:STANDARD
TZOFFSETFROM:-0400
TZOFFSETTO:-0500
TZNAME:EST
DTSTART:20231105T060000
END:STANDARD
END:VTIMEZONE
BEGIN:VEVENT
DTSTART;TZID=America/New_York:20230315T080000
DTEND;TZID=America/New_York:20230316T170000
DTSTAMP:20260420T005036
CREATED:20221006T061443Z
LAST-MODIFIED:20230105T031114Z
UID:7566-1678867200-1678986000@gbta.org
SUMMARY:Conferencia GBTA 2023 – Ciudad de México
DESCRIPTION:Date – 15 y 16 de Marzo\, 2023\nVenue – Sede: Hilton Mexico City Reforma \n \nLearn More
URL:https://gbta.org/es/event/conferencia-gbta-2023-ciudad-de-mexico/
CATEGORIES:Conference/Convention,LATAM
ATTACH;FMTTYPE=image/png:https://gbta.org/wp-content/uploads/hilton-mexico.png
END:VEVENT
BEGIN:VEVENT
DTSTART;TZID=America/New_York:20230316T100000
DTEND;TZID=America/New_York:20230316T110000
DTSTAMP:20260420T005036
CREATED:20230306T073904Z
LAST-MODIFIED:20230309T145436Z
UID:9407-1678960800-1678964400@gbta.org
SUMMARY:Bay Area Chapter - TSA Hot Topics!  The Latest and Greatest News You can Use! - GTP Credit Approved
DESCRIPTION:TSA Hot Topics! The Latest and Greatest News You Can Use!\nHear directly from Jerry Koehler\, Director of Marketing and Branding for the Transportation Security Administration (TSA) on key updates of TSA programs that impact the corporate travel space. Jerry will share the latest updates on the following topics:\n• TSA Overview\n• Risk-Based Passenger Screening\n• DHS Trusted Traveler Programs\n• TSA PreCheck Application Program Updates\n• Digital Identity \nRegister today for this informative and important session.\nOptional $10 for Members\nNon-Members: $10 \nInvite a Buyer! They will thank you for your consideration and for sharing your industry expertise. \nSpeaker:\nJerry Koehler\nDirector of Marketing and Branding\nTransportation Security Administration (TSA)
URL:https://gbta.org/es/event/tsa-hot-topics-the-latest-and-greatest-news-you-can-use/
LOCATION:Virtual
CATEGORIES:US Chapter Event
END:VEVENT
END:VCALENDAR