BEGIN:VCALENDAR
VERSION:2.0
PRODID:-//Global Business Travel Association - GBTA - ECPv6.9.0//NONSGML v1.0//EN
CALSCALE:GREGORIAN
METHOD:PUBLISH
X-ORIGINAL-URL:https://gbta.org/es
X-WR-CALDESC:Eventos para Global Business Travel Association - GBTA
REFRESH-INTERVAL;VALUE=DURATION:PT1H
X-Robots-Tag:noindex
X-PUBLISHED-TTL:PT1H
BEGIN:VTIMEZONE
TZID:America/New_York
BEGIN:DAYLIGHT
TZOFFSETFROM:-0500
TZOFFSETTO:-0400
TZNAME:EDT
DTSTART:20230312T070000
END:DAYLIGHT
BEGIN:STANDARD
TZOFFSETFROM:-0400
TZOFFSETTO:-0500
TZNAME:EST
DTSTART:20231105T060000
END:STANDARD
END:VTIMEZONE
BEGIN:VEVENT
DTSTART;TZID=America/New_York:20230512T050000
DTEND;TZID=America/New_York:20230512T060000
DTSTAMP:20260419T232330
CREATED:20230503T081145Z
LAST-MODIFIED:20230503T081932Z
UID:10415-1683867600-1683871200@gbta.org
SUMMARY:GBTA Upstate New York Chapter - May 2023 Chapter Meeting - Preparing for the Solar Eclipse of 2024 - Will Your Travel Organization be Ready?
DESCRIPTION:As a travel professional in Upstate New York\, you are a stakeholder in the rare event of being in the path of totality of a full solar eclipse. Learn what you can do to help prepare your organization and ensure your travelers and customers have a positive experience when the moon covers the sun on April 8\, 2024. As an added treat\, the venue is hosting an exhibit of works by eclipse artist and astronomer Dr. Tyler Nordgren. \nEvent Speaker \nA member of the Rochester Eclipse Task Force (to be named) \nLocation of Event \nSalena’s at Village Gate\, 302 N. Goodman Street\, Rochester\, NY 14607 \nPricing and Registration \n$50 for Chapter and All-Access Members\n$70 for Guests
URL:https://gbta.org/es/event/gbta-upstate-new-york-chapter-may-2023-chapter-meeting-preparing-for-the-solar-eclipse-of-2024-will-your-travel-organization-be-ready/
CATEGORIES:US Chapter Event
END:VEVENT
END:VCALENDAR