BEGIN:VCALENDAR
VERSION:2.0
PRODID:-//Global Business Travel Association - GBTA - ECPv6.9.0//NONSGML v1.0//EN
CALSCALE:GREGORIAN
METHOD:PUBLISH
X-ORIGINAL-URL:https://gbta.org/es
X-WR-CALDESC:Eventos para Global Business Travel Association - GBTA
REFRESH-INTERVAL;VALUE=DURATION:PT1H
X-Robots-Tag:noindex
X-PUBLISHED-TTL:PT1H
BEGIN:VTIMEZONE
TZID:America/New_York
BEGIN:DAYLIGHT
TZOFFSETFROM:-0500
TZOFFSETTO:-0400
TZNAME:EDT
DTSTART:20230312T070000
END:DAYLIGHT
BEGIN:STANDARD
TZOFFSETFROM:-0400
TZOFFSETTO:-0500
TZNAME:EST
DTSTART:20231105T060000
END:STANDARD
TZID:America/Chicago
BEGIN:DAYLIGHT
TZOFFSETFROM:-0600
TZOFFSETTO:-0500
TZNAME:CDT
DTSTART:20230312T080000
END:DAYLIGHT
BEGIN:STANDARD
TZOFFSETFROM:-0500
TZOFFSETTO:-0600
TZNAME:CST
DTSTART:20231105T070000
END:STANDARD
END:VTIMEZONE
BEGIN:VEVENT
DTSTART;TZID=America/New_York:20230515T080000
DTEND;TZID=America/New_York:20230517T170000
DTSTAMP:20260419T232406
CREATED:20221216T155529Z
LAST-MODIFIED:20230412T133255Z
UID:8453-1684137600-1684342800@gbta.org
SUMMARY:GBTA Canada Conference 2023 - Toronto
DESCRIPTION:GBTA Conference 2023 | Toronto – it’s the place to be!\nThe GBTA Conference returns to Toronto as the Canadian business travel event of the year. In-person networking\, business connection opportunities\, and leading experts on what matters most for today and tomorrow. It’s all here at this one-of-a-kind gathering of leaders in the Canadian business travel community. \nCurated topics\, insightful speakers\, and tools that you need—from forecasts and data to best practices and technologies—will help you navigate the road ahead for your business travelers\, organizations\, and teams. \nRegister today for the most important gathering of the Canadian business travel industry and be a part of our journey! \nMake your company a part of GBTA Conference | Toronto! Learn about exhibiting and sponsorship opportunities. \nLearn More
URL:https://gbta.org/es/event/gbta-canada-conference-2023-toronto/
CATEGORIES:Conference/Convention,North America
ATTACH;FMTTYPE=image/png:https://gbta.org/wp-content/uploads/toronto-banner-new-1.png
END:VEVENT
BEGIN:VEVENT
DTSTART;TZID=America/Chicago:20230515T140000
DTEND;TZID=America/Chicago:20230515T150000
DTSTAMP:20260419T232406
CREATED:20230426T155326Z
LAST-MODIFIED:20230510T123319Z
UID:10246-1684159200-1684162800@gbta.org
SUMMARY:Chicago Chapter - GBTA Chicago Q2 Meeting - GTP Credit Approved
DESCRIPTION:During our time together we’ll explore a number of topics relevant to both buyers and suppliers\, and you’ll have an opportunity to pick sessions to attend based on what you’re most interested in. Including such timely and relevant topics as: \n• Purposeful and Justifiable Travel: in the current era of high inflation and demands for each corporate dollar spent\, how can the travel buyer enhance their travel program? (led by Katie Virtue\, Festive Road)\n• Building a business case in a dynamic market place: hear from a panel of experienced travel managers (led by Trish Rothman\, William Blair and Leslie Andrews\, JLL)\n• NDC: the nuts and bolts\, state of the current marketplace (led by Greeley Koch\, 490 Consulting and Fred Bowen\, Amadeus) \nLocation of Event \nUnited Airlines HQ\, Chicago\, IL \nPricing and Registration \n$75.00 Member registration\n$125 Guest Registration
URL:https://gbta.org/es/event/chicago-chapter-gbta-chicago-q2-meeting/
CATEGORIES:US Chapter Event
END:VEVENT
END:VCALENDAR