BEGIN:VCALENDAR
VERSION:2.0
PRODID:-//Global Business Travel Association - GBTA - ECPv6.9.0//NONSGML v1.0//EN
CALSCALE:GREGORIAN
METHOD:PUBLISH
X-WR-CALNAME:Global Business Travel Association - GBTA
X-ORIGINAL-URL:https://gbta.org/es
X-WR-CALDESC:Eventos para Global Business Travel Association - GBTA
REFRESH-INTERVAL;VALUE=DURATION:PT1H
X-Robots-Tag:noindex
X-PUBLISHED-TTL:PT1H
BEGIN:VTIMEZONE
TZID:America/New_York
BEGIN:DAYLIGHT
TZOFFSETFROM:-0500
TZOFFSETTO:-0400
TZNAME:EDT
DTSTART:20230312T070000
END:DAYLIGHT
BEGIN:STANDARD
TZOFFSETFROM:-0400
TZOFFSETTO:-0500
TZNAME:EST
DTSTART:20231105T060000
END:STANDARD
END:VTIMEZONE
BEGIN:VEVENT
DTSTART;TZID=America/New_York:20230612T160000
DTEND;TZID=America/New_York:20230612T183000
DTSTAMP:20260420T023141
CREATED:20230531T074206Z
LAST-MODIFIED:20230609T110610Z
UID:11008-1686585600-1686594600@gbta.org
SUMMARY:Welcome to DC! GBTA Pre-Summit Reception Sponsored by TripStax
DESCRIPTION:Hosted by the DC GBTA and its generous sponsors from TripStax\, this complimentary reception will feature beer\, wine and light fare at the lovely Hilton Garden Inn Downtown White House lobby bar – Located at: 815 14th Street NW\, Washington DC 20005. \nAfter a day of travel or traffic – it will be a great opportunity to refresh and reconnect at this “Welcome to DC Reception!” Located just blocks from the GBTA Summit venue\, enjoy the sights of DC with a quick walk to our Welcome Reception (or Uber/Lyft or Valet Park\, if preferred.) Come join local\, regional and national travel management professionals\, suppliers and partners as they prepare to dig into the most relevant topics surrounding Sustainability and Legislative impacts at the GBTA Summit events in the days to follow! \nDC GBTA is pleased to recognize TripStax as our Welcome Reception Sponsor\, who joins our esteemed annual sponsors from Delta Air Lines\, Southwest Airlines and United Airlines\, in supporting our regional GBTA. \nRelative to the GBTA Sustainability Summit: TripStax has introduced extensive carbon emissions data capabilities to its tech stack of travel management applications for TMCs following the announcement of a strategic partnership with sustainability intelligent platform Thrust Carbon. Learn more at tripstax.com. \nSponsors
URL:https://gbta.org/es/event/welcome-to-dc-gbta-pre-summit-reception-sponsored-by-tripstax/
CATEGORIES:US Chapter Event
END:VEVENT
END:VCALENDAR