BEGIN:VCALENDAR
VERSION:2.0
PRODID:-//Global Business Travel Association - GBTA - ECPv6.9.0//NONSGML v1.0//EN
CALSCALE:GREGORIAN
METHOD:PUBLISH
X-WR-CALNAME:Global Business Travel Association - GBTA
X-ORIGINAL-URL:https://gbta.org/es
X-WR-CALDESC:Eventos para Global Business Travel Association - GBTA
REFRESH-INTERVAL;VALUE=DURATION:PT1H
X-Robots-Tag:noindex
X-PUBLISHED-TTL:PT1H
BEGIN:VTIMEZONE
TZID:America/New_York
BEGIN:DAYLIGHT
TZOFFSETFROM:-0500
TZOFFSETTO:-0400
TZNAME:EDT
DTSTART:20230312T070000
END:DAYLIGHT
BEGIN:STANDARD
TZOFFSETFROM:-0400
TZOFFSETTO:-0500
TZNAME:EST
DTSTART:20231105T060000
END:STANDARD
END:VTIMEZONE
BEGIN:VEVENT
DTSTART;VALUE=DATE:20230614
DTEND;VALUE=DATE:20230616
DTSTAMP:20260420T023143
CREATED:20230208T034911Z
LAST-MODIFIED:20230424T214841Z
UID:9089-1686700800-1686873599@gbta.org
SUMMARY:GBTA U.S. Legislative Summit
DESCRIPTION:The GBTA U.S. Legislative Summit is a one-of-a-kind event that empowers you to be the voice of the business travel industry. By attending this event\, you will: \n\nMeet one-on-one with Senators and Representatives to share opinions and advocate for policies that support the business travel industry\nBroaden your understanding of government actions and how the outcomes impact the industry\nHear perspectives from Administration Officials and Members of Congress\nNetwork with colleagues from around the country\n\nBundle your registration with the Sustainability Summit and save: \nClimate change and the desire to decarbonize travel is a fast-rising topic in the business travel community. It is also a top issue for U.S. elected officials. Attend the Sustainability Summit to gain a broader understanding of the topic from an Industry and Government perspective and to enhance your U.S. Legislative Summit experience in D.C. Learn More \nEvent Dates:\nWednesday\, June 14th – Thursday\, June 15th\, 2023 \nView more information
URL:https://gbta.org/es/event/gbta-legislative-summit-2023/
CATEGORIES:North America,Summits & Workshops
END:VEVENT
END:VCALENDAR