BEGIN:VCALENDAR
VERSION:2.0
PRODID:-//Global Business Travel Association - GBTA - ECPv6.9.0//NONSGML v1.0//EN
CALSCALE:GREGORIAN
METHOD:PUBLISH
X-ORIGINAL-URL:https://gbta.org/es
X-WR-CALDESC:Eventos para Global Business Travel Association - GBTA
REFRESH-INTERVAL;VALUE=DURATION:PT1H
X-Robots-Tag:noindex
X-PUBLISHED-TTL:PT1H
BEGIN:VTIMEZONE
TZID:America/New_York
BEGIN:DAYLIGHT
TZOFFSETFROM:-0500
TZOFFSETTO:-0400
TZNAME:EDT
DTSTART:20230312T070000
END:DAYLIGHT
BEGIN:STANDARD
TZOFFSETFROM:-0400
TZOFFSETTO:-0500
TZNAME:EST
DTSTART:20231105T060000
END:STANDARD
END:VTIMEZONE
BEGIN:VEVENT
DTSTART;TZID=America/New_York:20230629T083000
DTEND;TZID=America/New_York:20230629T123000
DTSTAMP:20260420T010138
CREATED:20230213T151217Z
LAST-MODIFIED:20230628T034755Z
UID:9173-1688027400-1688041800@gbta.org
SUMMARY:LATAM Business Travel Forums Buenos Aires
DESCRIPTION:Buenos Aires: 29 June \nEl GBTA Business Travel Forum en Buenos Aires es un evento sin costo de medio día de duración dirigido exclusivamente a Travel Managers del sector de viajes corporativos de la capital argentina. \nEste evento es parte de una serie fórums que GBTA organiza en la región latinoamericana incluyendo ciudades de Argentina\, Brasil y Colombia. \nAl atender este evento podrás:\n• Actualizar tus conocimientos sobre la mejora de tus programas de viajes corporativos.\n• Ampliar tu red de contactos y hacer networking con colegas locales de Bogotá.\n• Aprender los diferentes aspectos sobre la contratación de servicios de viaje en las áreas. de aerolíneas\, hoteles\, empresas de alquiler de coches\, empresas de gestión de viajes\, informes de gastos y gestión de riesgos.\n• Interactuar con los selectos proveedores que patrocinan el evento.\n• Invertir tiempo en tu desarrollo personal y profesional. \nRead More
URL:https://gbta.org/es/event/latin-american-business-travel-forums/
CATEGORIES:LATAM
END:VEVENT
BEGIN:VEVENT
DTSTART;TZID=America/New_York:20230629T110000
DTEND;TZID=America/New_York:20230629T123000
DTSTAMP:20260420T010138
CREATED:20230605T132806Z
LAST-MODIFIED:20230627T142413Z
UID:11117-1688036400-1688041800@gbta.org
SUMMARY:GBTA Global Elections | Board of Directors Candidate Forum
DESCRIPTION:Times:\n11:00  EDT |   17:00 CEST \nWe invite you to educate yourself on the candidates running for GBTA Board of Directors and register for the Global Candidate Forum on June 29 at 11:00 AM ET. The GBTA Board of Directors play a critical role in shaping our industry and the path for the association. Join this complimentary forum to hear directly from the candidates themselves\, as they share their vision for GBTA. \nThe following seats are up for election: \n\nPresident\nVice President\nOne (1) Director-at-Large (Direct Member)\nOne (1) Regional Director – Canada (Direct Member)\nOne (1) Director-at-Large (Allied Member)\n\nThis is a unique opportunity to learn more about the candidates and their plans for the future of GBTA and the business travel industry. Don’t miss this chance to make an informed decision and have your voice heard. If you aren’t already a GBTA Member\, become one today and be in time to Vote! Register today and get ready to vote! \nWe thank you in advance for your participation in shaping the future of GBTA. \nIf you have any questions about the online voting process\, please contact Shane Downey at sdowney@gbta.org or Election Services Corp. by email at gbtahelp@electionservicescorp.com \nIf you have questions about your membership status or voter eligibility\, please contact GBTA’s Member Care Team at membercare@gbta.org.
URL:https://gbta.org/es/event/global-elections-board-of-directors-candidate-forum-2023/
CATEGORIES:Virtual
END:VEVENT
END:VCALENDAR