BEGIN:VCALENDAR
VERSION:2.0
PRODID:-//Global Business Travel Association - GBTA - ECPv6.9.0//NONSGML v1.0//EN
CALSCALE:GREGORIAN
METHOD:PUBLISH
X-ORIGINAL-URL:https://gbta.org/es
X-WR-CALDESC:Eventos para Global Business Travel Association - GBTA
REFRESH-INTERVAL;VALUE=DURATION:PT1H
X-Robots-Tag:noindex
X-PUBLISHED-TTL:PT1H
BEGIN:VTIMEZONE
TZID:America/New_York
BEGIN:DAYLIGHT
TZOFFSETFROM:-0500
TZOFFSETTO:-0400
TZNAME:EDT
DTSTART:20230312T070000
END:DAYLIGHT
BEGIN:STANDARD
TZOFFSETFROM:-0400
TZOFFSETTO:-0500
TZNAME:EST
DTSTART:20231105T060000
END:STANDARD
END:VTIMEZONE
BEGIN:VEVENT
DTSTART;TZID=America/New_York:20231025T150000
DTEND;TZID=America/New_York:20231025T160000
DTSTAMP:20260421T140339
CREATED:20230517T095434Z
LAST-MODIFIED:20230517T100054Z
UID:10785-1698246000-1698249600@gbta.org
SUMMARY:GBTA Southern Africa Conference 2023
DESCRIPTION:Join GBTA Southern Africa on 25 and 26 October 2023 for our annual conference at Peermont Hotel Emperor’s Palace. Attend our conference to (re) connect and grow your valuable relationship with your fellow travel professionals. (Re) collaborate to get back to travel and back to business. Here is the opportunity to (re) communicate\, plan and evolve for the future of the travel industry. You will be equipped with new knowledge\, expertise and the ability to prepare for the return of business travel. \nWe will have plenty of networking sessions\, 10 educational sessions with great speakers and panel discussions. \nLocation of Event \nEmperors Palace Johannesburg \nPricing and Registration \nR 2700 Buyer Member\nR 3500 Supplier Member\nR 3350 Non Member Buyer\nR 3950 Non Member Supplier
URL:https://gbta.org/es/event/gbta-southern-africa-conference-2023/
CATEGORIES:US Chapter Event
END:VEVENT
END:VCALENDAR