BEGIN:VCALENDAR
VERSION:2.0
PRODID:-//Global Business Travel Association - GBTA - ECPv6.9.0//NONSGML v1.0//EN
CALSCALE:GREGORIAN
METHOD:PUBLISH
X-ORIGINAL-URL:https://gbta.org/es
X-WR-CALDESC:Eventos para Global Business Travel Association - GBTA
REFRESH-INTERVAL;VALUE=DURATION:PT1H
X-Robots-Tag:noindex
X-PUBLISHED-TTL:PT1H
BEGIN:VTIMEZONE
TZID:America/Los_Angeles
BEGIN:DAYLIGHT
TZOFFSETFROM:-0800
TZOFFSETTO:-0700
TZNAME:PDT
DTSTART:20230312T100000
END:DAYLIGHT
BEGIN:STANDARD
TZOFFSETFROM:-0700
TZOFFSETTO:-0800
TZNAME:PST
DTSTART:20231105T090000
END:STANDARD
TZID:America/New_York
BEGIN:DAYLIGHT
TZOFFSETFROM:-0500
TZOFFSETTO:-0400
TZNAME:EDT
DTSTART:20230312T070000
END:DAYLIGHT
BEGIN:STANDARD
TZOFFSETFROM:-0400
TZOFFSETTO:-0500
TZNAME:EST
DTSTART:20231105T060000
END:STANDARD
TZID:Europe/Vatican
BEGIN:DAYLIGHT
TZOFFSETFROM:+0100
TZOFFSETTO:+0200
TZNAME:CEST
DTSTART:20230326T010000
END:DAYLIGHT
BEGIN:STANDARD
TZOFFSETFROM:+0200
TZOFFSETTO:+0100
TZNAME:CET
DTSTART:20231029T010000
END:STANDARD
END:VTIMEZONE
BEGIN:VEVENT
DTSTART;VALUE=DATE:20231130
DTEND;VALUE=DATE:20231202
DTSTAMP:20260421T154523
CREATED:20231114T165758Z
LAST-MODIFIED:20231114T201616Z
UID:13504-1701302400-1701475199@gbta.org
SUMMARY:GBTA | North Carolina - Annual Gala\, Auction\, Charity & Education 2023
DESCRIPTION:Description:\nDress up James Bond style\, bring your guests and let’s get together for GBTA North Carolina’s signature event of the year! Try your luck at the casino tables and place your bids at the silent auction table. Raise the paddles to bid on amazing live auction items and let’s network\, build connections and have a marvelous time at the beautiful and brand new Westin Raleigh-Durham Airport hotel the evening of November 30th\, 2023. Morning of Dec 1st\, 2023\, we will have a hands on charity activity and get some travel education. \nEvent Speaker:\nLarry Long Jr.\nChief Energy Officer\nLLJR Enterprises\nProgram Title & Overview:\nLeverage LinkedIn to Strengthen Relationships & Drive New Business: Giving Your Brand a JOLT!⚡️ For Continued Success\nBe prepared to explore:\n-GAP in your current LinkedIn strategy (…if there is one)\n-Power of engaging via LinkedIn\n-5-Step Playbook for positive business results \nLocation of Event: The Westin Raleigh Durham Airport Hotel\nPrice: Member & All Access Members – $150\, Non-Members – $175 \nContact: admin@ncbta.org
URL:https://gbta.org/es/event/annual-gala-auction-charity-education-2023/
CATEGORIES:US Chapter Event
END:VEVENT
BEGIN:VEVENT
DTSTART;TZID=America/New_York:20231130T083000
DTEND;TZID=America/New_York:20231130T123000
DTSTAMP:20260421T154523
CREATED:20230213T152825Z
LAST-MODIFIED:20230829T121134Z
UID:9180-1701333000-1701347400@gbta.org
SUMMARY:LATAM Business Travel Forums São Paulo
DESCRIPTION:São Paulo| 30 Nov \nData:  30 de novembro de 2023 \nHora: 8.30am as 12.30pm \nLocal: InterContinental Sao Paulo \nMore information
URL:https://gbta.org/es/event/latin-american-business-travel-forums-3/
CATEGORIES:LATAM
END:VEVENT
BEGIN:VEVENT
DTSTART;TZID=Europe/Vatican:20231130T100000
DTEND;TZID=Europe/Vatican:20231130T110000
DTSTAMP:20260421T154523
CREATED:20231102T160738Z
LAST-MODIFIED:20231103T111123Z
UID:13361-1701338400-1701342000@gbta.org
SUMMARY:Global Business Travel Forecast 2024: evoluzione del mercato e spunti per affrontarlo al meglio
DESCRIPTION:L’aumento dei prezzi del carburante\, la carenza di manodopera e le sfide della supply chain\, insieme alla forte domanda\, hanno portato ad un incremento generalizzato dei prezzi dei viaggi. Si prevede che la persistente incertezza economica e un graduale allentamento dei vincoli dal lato dell’offerta si tradurranno in aumenti dei prezzi\, anche se più moderati\, anche nei prossimi 12 mesi. \nQual è la strategia migliore per affrontare questo mercato? \nDurante il Webinar del 30 novembre analizzeremo i tratti salienti del “2024 Global Business Travel Forecast” realizzato da CWT e GBTA e con il supporto di Travel Manager e Travel Buyer condivideremo spunti utili per affrontare al meglio l’evoluzione del mercato. \nL’evento è possibile grazie agli Annual Partner di GBTA Italia:\n                    \nRegistrati qua
URL:https://gbta.org/es/event/global-business-travel-forecast-2024-evoluzione-del-mercato-e-spunti-per-affrontarlo-al-meglio/
CATEGORIES:Italy,Online Courses & Webinars
END:VEVENT
END:VCALENDAR