BEGIN:VCALENDAR
VERSION:2.0
PRODID:-//Global Business Travel Association - GBTA - ECPv6.9.0//NONSGML v1.0//EN
CALSCALE:GREGORIAN
METHOD:PUBLISH
X-WR-CALNAME:Global Business Travel Association - GBTA
X-ORIGINAL-URL:https://gbta.org/es
X-WR-CALDESC:Eventos para Global Business Travel Association - GBTA
REFRESH-INTERVAL;VALUE=DURATION:PT1H
X-Robots-Tag:noindex
X-PUBLISHED-TTL:PT1H
BEGIN:VTIMEZONE
TZID:America/New_York
BEGIN:DAYLIGHT
TZOFFSETFROM:-0500
TZOFFSETTO:-0400
TZNAME:EDT
DTSTART:20240310T070000
END:DAYLIGHT
BEGIN:STANDARD
TZOFFSETFROM:-0400
TZOFFSETTO:-0500
TZNAME:EST
DTSTART:20241103T060000
END:STANDARD
END:VTIMEZONE
BEGIN:VEVENT
DTSTART;TZID=America/New_York:20240313T094500
DTEND;TZID=America/New_York:20240313T150000
DTSTAMP:20260422T185430
CREATED:20240311T140422Z
LAST-MODIFIED:20240311T140422Z
UID:14924-1710323100-1710342000@gbta.org
SUMMARY:Generative AI: From Theory to Travel
DESCRIPTION:GBTA Wisconsin Chapter\nThis event will be held at the Hotel Northland in Green Bay WI!\nTopic: Generative AI: From Theory to Travel\nMain Speaker: Sam Hilgendorf has served as the chief information officer (CIO) at Fox World Travel \nYou can’t go a day without hearing something new about Generative AI and ChatGPT. We explore this cutting-edge technology and discuss how it can be applied within the travel industry to enhance customer engagement\, optimize operations\, and unlock opportunities for personalization. This will be a journey of practical insights and innovative strategies that will revolutionize the traveler experience! \nThis session will include:\n-An Overview on Generative AI\n-The implications of Generative AI on Business Travel\n-Fox World Travel’s Generative AI on Business Travel\n-Risks with Generative AI\n-The potential of AI-enabled Business Travel \nSam Hilgendorf has served as the chief information officer (CIO) at Fox World Travel since 2018. He is responsible for the vision and execution of Fox’s technology portfolio\, which includes IT\, business intelligence\, product development\, and project management.\nUnder Sam’s visionary stewardship\, Fox has integrated groundbreaking solutions\, including a cutting-edge customer contact center\, an enterprise data management platform\, and an innovative cloud collaboration suite. These pioneering strides have garnered widespread acclaim within the travel industry\, consistently acknowledged through prestigious accolades.\nUnder Sam’s direction\, Fox has been awarded multiple Magellan awards from Travel Weekly and has also been recognized as a Distinguished Partner for SAP Concur for custom integration work with the Concur Travel platform. He’s also contributed on multiple occurrences to industry thought leadership on topics such as blockchain\, AI\, and many other tech topics.\nRecently honored with the title of Wisconsin’s CIO of the Year\, Sam exemplifies a passion for leveraging technology to catalyze positive change. He firmly believes in harnessing technology’s potential to unleash the latent talents of his team members\, propelling them toward unparalleled achievements. Sam’s dedication extends to enriching customer experiences\, fostering peak performance\, and nurturing excellence.\nSam has been happily married for 20 years and is a proud parent of a wonderful pre-teen daughter. When it comes to hobbies\, he describes his family as “a real-life version of the TV show The Big Bang Theory.” They love playing Dungeons and Dragons and other tabletop board games\, reading comic books\, dressing up for Renaissance fairs\, and indulging in just about every other nerdy hobby imaginable. These quirky interests bring them joy\, excitement\, and a whole lot of stories to tell!
URL:https://gbta.org/es/event/generative-ai-from-theory-to-travel/
CATEGORIES:North America,US Chapter Event
END:VEVENT
BEGIN:VEVENT
DTSTART;TZID=America/New_York:20240313T103000
DTEND;TZID=America/New_York:20240313T160000
DTSTAMP:20260422T185430
CREATED:20240122T152328Z
LAST-MODIFIED:20240130T162435Z
UID:14160-1710325800-1710345600@gbta.org
SUMMARY:Spotlight on Disability Mobility & Accessibility in Travel! - GTP Credit Approved
DESCRIPTION:Join the GBTA | WI Chapter at this truly insightful event: Spotlight on Disability Mobility & Accessibility in Travel! \nNetworking then Lunch + a Travel Industry panel discussion to promote dialogue around the needs & opportunities for advocating for travelers with disabilities. This is a “Don’t Miss” event that will also offer Allied & Direct Sessions following the discussion. \n \nModerating will be: Harold Mester\, Director of Public Affairs & Marketing at the Milwaukee Airport \nPanelists Include: \nDave Gelting\, Accessibility/Compliance Coordinator at the Milwaukee Airport \nMichael Albers\, Director\, Business Development at Avis \nChristopher Hovis\, Manager at Customer Advocacy at Southwest Airlines \nGus Vonderheide\, Vice President of Global Sales – Americas at Hyatt Hotels & Resorts \nKristina Van Slyke\, Travel & Support Services Manager at Kohl’s
URL:https://gbta.org/es/event/spotlight-on-disability-mobility-accessibility-in-travel/
CATEGORIES:North America,US Chapter Event
END:VEVENT
BEGIN:VEVENT
DTSTART;TZID=America/New_York:20240313T113000
DTEND;TZID=America/New_York:20240313T150000
DTSTAMP:20260422T185430
CREATED:20240221T103526Z
LAST-MODIFIED:20240223T124327Z
UID:14702-1710329400-1710342000@gbta.org
SUMMARY:Online Odyssey\, Navigating the New Era of Travel Booking - GTP Credit Approved
DESCRIPTION:For buyers\, it’s an invaluable opportunity to discover cutting-edge solutions that streamline travel booking and management\, ensuring you’re equipped with the best tools to optimize your travel programs. \n \nTrade-Show: After our program you will have the opportunity to immerse yourself in our hands-on ‘trade-show’ style exhibition for interactions\, live demos\, and in-depth discussions on harnessing these technologies for your advantage. \nEvent Schedule:\n11:30 am – 12:00 pm: Registration and Networking\n12:00 pm – 2:00 pm: Engaging Online Odyssey Presentations\n2:00 pm – 3:00 pm: Hands-On\, Trade-Show Style Online Booking Demos
URL:https://gbta.org/es/event/online-odyssey-navigating-the-new-era-of-travel-booking/
CATEGORIES:North America,US Chapter Event
END:VEVENT
END:VCALENDAR