BEGIN:VCALENDAR
VERSION:2.0
PRODID:-//Global Business Travel Association - GBTA - ECPv6.9.0//NONSGML v1.0//EN
CALSCALE:GREGORIAN
METHOD:PUBLISH
X-ORIGINAL-URL:https://gbta.org/es
X-WR-CALDESC:Eventos para Global Business Travel Association - GBTA
REFRESH-INTERVAL;VALUE=DURATION:PT1H
X-Robots-Tag:noindex
X-PUBLISHED-TTL:PT1H
BEGIN:VTIMEZONE
TZID:America/New_York
BEGIN:DAYLIGHT
TZOFFSETFROM:-0500
TZOFFSETTO:-0400
TZNAME:EDT
DTSTART:20240310T070000
END:DAYLIGHT
BEGIN:STANDARD
TZOFFSETFROM:-0400
TZOFFSETTO:-0500
TZNAME:EST
DTSTART:20241103T060000
END:STANDARD
END:VTIMEZONE
BEGIN:VEVENT
DTSTART;TZID=America/New_York:20240320T110000
DTEND;TZID=America/New_York:20240320T130000
DTSTAMP:20260421T215412
CREATED:20240311T140036Z
LAST-MODIFIED:20240311T140036Z
UID:14921-1710932400-1710939600@gbta.org
SUMMARY:GBTA Puget Sound Chapter's March General Meeting
DESCRIPTION:Visit Seattle Annual Industry Recap\nEvent Speaker: Kelly Saling\, Senior Vice President / Chief Sales Officer with Visit Seattle\nLocation: Lotte Seattle Hotel 809 5th Avenue (located in F5\, Inc. Tower)\nSeattle\, WA 98104\nhttps://www.lottehotelseattle.com/\nTime: 11am – 1pm PST\nWe can’t wait to welcome back Kelly to our meeting as she always has exciting presentations and industry news you won’t want to miss out on! Register soon as this event sells out quickly!
URL:https://gbta.org/es/event/gbta-puget-sound-chapters-march-general-meeting/
CATEGORIES:North America,US Chapter Event
END:VEVENT
END:VCALENDAR