BEGIN:VCALENDAR
VERSION:2.0
PRODID:-//Global Business Travel Association - GBTA - ECPv6.9.0//NONSGML v1.0//EN
CALSCALE:GREGORIAN
METHOD:PUBLISH
X-ORIGINAL-URL:https://gbta.org/es
X-WR-CALDESC:Eventos para Global Business Travel Association - GBTA
REFRESH-INTERVAL;VALUE=DURATION:PT1H
X-Robots-Tag:noindex
X-PUBLISHED-TTL:PT1H
BEGIN:VTIMEZONE
TZID:America/New_York
BEGIN:DAYLIGHT
TZOFFSETFROM:-0500
TZOFFSETTO:-0400
TZNAME:EDT
DTSTART:20240310T070000
END:DAYLIGHT
BEGIN:STANDARD
TZOFFSETFROM:-0400
TZOFFSETTO:-0500
TZNAME:EST
DTSTART:20241103T060000
END:STANDARD
END:VTIMEZONE
BEGIN:VEVENT
DTSTART;TZID=America/New_York:20240409T110000
DTEND;TZID=America/New_York:20240409T131000
DTSTAMP:20260421T074635
CREATED:20240314T044029Z
LAST-MODIFIED:20240402T122310Z
UID:15106-1712660400-1712668200@gbta.org
SUMMARY:GBTA + its Support Systems - GTP Credit Approved
DESCRIPTION:GBTA | Tennessee \nJoin us on April 9th to do a deep dive into GBTA and its many support systems. From Ladders to WINiT and it’s mentorship program\, we’re here to cover any and all questions! Ladders and WINiT both focus on the importance of collaboration and networking\, as well as supporting and helping to grow individuals in the industry. Don’t miss this important meeting to learn more about both of these outstanding GBTA experiences. \n \nHaley McIntryre\, WINiT Community & Networking Committee member and National Sales Director for Placemakr. \n \nHilton Nashville Airport\n2200 Elm Hill Pike\nNashville\, TN 37214 \nTickets\n$35.00 GBTA-TN Member Registration\n$45.00 after 07:00 am April 8 \n$35.00 GBTA All-Access Registration\n$45.00 after 07:00 am April 8 \n$45.00 Guest Registration\n$55.00 after 07:00 am April 8
URL:https://gbta.org/es/event/gbta-its-support-systems/
CATEGORIES:North America,US Chapter Event
END:VEVENT
END:VCALENDAR