BEGIN:VCALENDAR
VERSION:2.0
PRODID:-//Global Business Travel Association - GBTA - ECPv6.9.0//NONSGML v1.0//EN
CALSCALE:GREGORIAN
METHOD:PUBLISH
X-WR-CALNAME:Global Business Travel Association - GBTA
X-ORIGINAL-URL:https://gbta.org/es
X-WR-CALDESC:Eventos para Global Business Travel Association - GBTA
REFRESH-INTERVAL;VALUE=DURATION:PT1H
X-Robots-Tag:noindex
X-PUBLISHED-TTL:PT1H
BEGIN:VTIMEZONE
TZID:America/New_York
BEGIN:DAYLIGHT
TZOFFSETFROM:-0500
TZOFFSETTO:-0400
TZNAME:EDT
DTSTART:20240310T070000
END:DAYLIGHT
BEGIN:STANDARD
TZOFFSETFROM:-0400
TZOFFSETTO:-0500
TZNAME:EST
DTSTART:20241103T060000
END:STANDARD
END:VTIMEZONE
BEGIN:VEVENT
DTSTART;TZID=America/New_York:20240410T173000
DTEND;TZID=America/New_York:20240410T200000
DTSTAMP:20260421T055755
CREATED:20240318T115125Z
LAST-MODIFIED:20240318T115125Z
UID:15171-1712770200-1712779200@gbta.org
SUMMARY:Los Angeles Chapter Spring Member Mixer Reception
DESCRIPTION:Chapter Name: Los Angeles Chapter\nDescription: Reception/Mixer/Social – please join us for this travel industry networking event at a great venue.\nEvent Speaker: no speaker\, reception/mixer\nLocation of Event: The Godfrey Hotel Hollywood\, 1400 Cahuenga Blvd\, Los Angeles\, CA 90028\nPrice: $25.00 Member Ticket ($35.00 after 05:00 pm April 8)\, $60.00 Guest Ticket\n($70.00 after 05:00 pm April 8). Parking is $15
URL:https://gbta.org/es/event/los-angeles-chapter-spring-member-mixer-reception/
CATEGORIES:North America,US Chapter Event
END:VEVENT
END:VCALENDAR