BEGIN:VCALENDAR
VERSION:2.0
PRODID:-//Global Business Travel Association - GBTA - ECPv6.9.0//NONSGML v1.0//EN
CALSCALE:GREGORIAN
METHOD:PUBLISH
X-ORIGINAL-URL:https://gbta.org/es
X-WR-CALDESC:Eventos para Global Business Travel Association - GBTA
REFRESH-INTERVAL;VALUE=DURATION:PT1H
X-Robots-Tag:noindex
X-PUBLISHED-TTL:PT1H
BEGIN:VTIMEZONE
TZID:America/New_York
BEGIN:DAYLIGHT
TZOFFSETFROM:-0500
TZOFFSETTO:-0400
TZNAME:EDT
DTSTART:20240310T070000
END:DAYLIGHT
BEGIN:STANDARD
TZOFFSETFROM:-0400
TZOFFSETTO:-0500
TZNAME:EST
DTSTART:20241103T060000
END:STANDARD
END:VTIMEZONE
BEGIN:VEVENT
DTSTART;TZID=America/New_York:20240418T091500
DTEND;TZID=America/New_York:20240418T150000
DTSTAMP:20260419T174858
CREATED:20240404T161427Z
LAST-MODIFIED:20240408T143905Z
UID:15315-1713431700-1713452400@gbta.org
SUMMARY:Decoding AI: Travels Game Changer or Troublemaker? - GTP Credit Approved
DESCRIPTION:GBTA Michigan Chapter \nDescription: Morning Session: Speaker: Sam Hilgendorf CIO\, Fox World Travel\nYou can’t go a day without hearing something new about Generative AI and ChatGPT. We will explore this cutting-edge technology and discuss how it can be applied within the travel industry to enhance customer engagement\, optimize operations\, and unlock opportunities for personalization. This will be a journey of practical insights and innovative strategies that will revolutionize the traveler experience!\nThis session will include: \n \n· An Overview on Generative AI\n· The implications of Generative AI on Business Travel\n· Fox World Travel’s Generative AI Experience\n· Risks with Generative AI\n· The Potential of AI-enabled Business Travel \nAfternoon Debate Style Session: AI in Travel: Bone or Bane?\nSpeakers; Sam Hilgendorf\, CIO\, Fox World Travel and Steven Harter\, CTO\, CerebriAI\nPack your arguments\, the great AI in Travel debate is about to take off! Join us for a riveting debate on the future of travel as we explore the impact of artificial intelligence. Is AI a game-changer set to revolutionize the industry\, or does it pose a threat to traditional travel experiences? Don’t miss this opportunity to hear from some of the top industry experts who weigh in on the pros and cons of AI in travel. Who will be crowned the debate champion?! \nVenue:\nFirekeepers Casino & Hotel\, 11177 E. Michigan Ave. Battle Creek\, MI 49014 \nPrice: $100 for non-member
URL:https://gbta.org/es/event/decoding-ai-travels-game-changer-or-troublemaker/
CATEGORIES:North America,US Chapter Event
END:VEVENT
BEGIN:VEVENT
DTSTART;TZID=America/New_York:20240418T120000
DTEND;TZID=America/New_York:20240418T140000
DTSTAMP:20260419T174858
CREATED:20240321T135606Z
LAST-MODIFIED:20240402T123045Z
UID:15213-1713441600-1713448800@gbta.org
SUMMARY:GBTA Philadelphia: Power Panel of Women Travel Leader Experts - GTP Credit Approved
DESCRIPTION:GBTA Philadelphia \nJoin us for an opportunity to hear from an esteemed panel of Women Travel Manager Experts and discuss topics to include IT\, Hotel Sourcing\, Interacting with your local market\, navigating the changing market\, frequent flyer programs and MORE! \n \nCorporate Travel Buyer Panel\nRosemary Maloney\, Sr. Mgr Global Travel\, Expense & Card /Alteryx (Moderator)\nTracee Ferraro\, Sr. Buyer Indirect Procurement/Campbell Soup Co. (Panelist)\nBrianna Lazzaro\, Group Manager\, Travel /Globus Medical (Panelist)\nAmy Hunke\, Sr. Mgr Global Travel & Meetings/AMETEK (Panelist) \nLocation: Hyatt Centric Center City Philadelphia: 1620 Chancellor St\, Philadelphia\, PA 19103 \nTickets\n$0.00 Member Chapter Meeting Price\n$75.00 Guest Price\n$0.00 GBTA All-Access Member Who Is NOT A Philadelphia Chapter Member
URL:https://gbta.org/es/event/gbta-philadelphia-power-panel-of-women-travel-leader-experts/
CATEGORIES:North America,US Chapter Event
END:VEVENT
BEGIN:VEVENT
DTSTART;TZID=America/New_York:20240418T170000
DTEND;TZID=America/New_York:20240418T190000
DTSTAMP:20260419T174858
CREATED:20240404T161749Z
LAST-MODIFIED:20240408T144137Z
UID:15318-1713459600-1713466800@gbta.org
SUMMARY:Texas Education Day 2024 - GTP Credit Approved
DESCRIPTION:Please join us at the The Westin Dallas Stonebriar Golf Resort & Spa\, Frisco\, TX\nApril 18-19\, 2024 for Texas Education Day 2024 (Hosted by Dallas-Ft. Worth GBTA Chapter) \n \n“Illuminate” \nApril 18th\n5:00 PM – 7:00 PM – Opening Reception \nApril 19th\n7:30 AM – 5:00 PM\nThe Day will kick off with breakfast and an opportunity to network and meet some of our\namazing suppliers with a tradeshow! \nGeneral Session Presentations\n9:00 AM – 12:00 Noon\nBTN Top 25 Most Influential Travel Professionals – Panel Discussion Panelists including Doreen Burse\, Sr VP Worldwide Sales\, United Airlines\, David Harvey\, Chief Sales Officer\, Southwest Airlines and many more! \nAn exciting Lunch/Fireside Chat with Suzanne Neufang\, GBTA CEO\, and Dave Harvey\, Southwest Airlines \nThere will be some great afternoon breakout sessions that you won’t want to miss. Topics including sustainability\, duty of care\, and a Travel Buyers panel moderated by Yvonne Domeier\, Manager of Sustainability\, Delta Air Lines.
URL:https://gbta.org/es/event/texas-education-day-2024/
CATEGORIES:North America,US Chapter Event
END:VEVENT
BEGIN:VEVENT
DTSTART;TZID=America/New_York:20240418T173000
DTEND;TZID=America/New_York:20240418T203000
DTSTAMP:20260419T174858
CREATED:20240326T102953Z
LAST-MODIFIED:20240403T120127Z
UID:15234-1713461400-1713472200@gbta.org
SUMMARY:Navigating the World: Street Smart Travel Tips - GTP Credit Approved
DESCRIPTION:GBTA Bay Area\nApril Dinner Program\nThursday\, April 18\n5:30-8:30 PM Pacific \nThe Marker\n501 Geary Street\, San Francisco \nNavigating the World: Street Smart Travel Tips \n \nBack by popular demand\, Detective Kevin Coffey\, aka “The Scholar of Thievery\,” will be sharing his updated “street smart” travel presentation. Whether for business or leisure\, domestic or international\, traveling today has very different challenges that travelers must be prepared for. That’s where Detective Coffey’s travel advice can make a significant difference in the outcome of your next trip.\nKevin’s background is unique to the travel and meeting industry\, as before he became a corporate speaker\, he served as a detective with the Los Angeles Police Department\, where he investigated crimes against travelers at LAX airport\, hotels\, car rental agencies\, taxi cabs\, and tourist destinations. This unique career provided him with a unique perspective that allows him to share travel tips\, tricks\, and personal travel security advice from a place of firsthand experience.\nIn this presentation\, Kevin will share the art of street smart and savvy travel strategies that follow his mantra: “Street smarts are as essential as a passport.” In his interactive presentation\, he will share practical strategies to keep you\, your travelers\, as well as your customers safe\, whether exploring bustling international cities or navigating domestic routes. Some of topics covered in this presentation will include”\n• Pre-departure air/cruise considerations travelers don’t think about\n• Must know travel apps travelers may not know\n• New travel documents and passport tips you need to know\n• Tips to make sure your luggage does not take a trip without you\n• Pickpocket (wallet & purse) prevention strategies for traveling abroad or here at home\n• Defensive strategies for protecting a traveler’s lifeline – their mobile phone\n• Medical emergencies while traveling and what you must do BEFORE they occur \nKevin’s insights extend beyond the sales meetings where he regularly conducts his travel skills presentations to business travelers\, as he’s frequently featured in the media – whether it’s Oprah’s Couch\, CNN\, CBS or FOX News\, Inside Edition\, to the Travel Channel. While his street-smart travel skills and wisdom reach millions on television\, now it’s your turn to benefit by attending this meeting.\nBecause this content is unique and significantly benefits an organization’s travel safety training program\, BABTA’s members are encouraged to bring a guest from your organization to attend with you. Strongly consider inviting someone from your corporate security\, HR\, safety\, EHS\, or even your training department so they can get ideas of the type of content you should be sharing with your travelers.\nWith his street-smart travel advice curated from several decades of investigating crimes for the LAPD\, Detective Coffey will share insider travel tips many travelers wish they knew BEFORE their last trip turned upside down. \n$70 for Members/GBTA All Access\n$100 for Non Members
URL:https://gbta.org/es/event/navigating-the-world-street-smart-travel-tips/
CATEGORIES:North America,US Chapter Event
END:VEVENT
END:VCALENDAR