BEGIN:VCALENDAR
VERSION:2.0
PRODID:-//Global Business Travel Association - GBTA - ECPv6.9.0//NONSGML v1.0//EN
CALSCALE:GREGORIAN
METHOD:PUBLISH
X-WR-CALNAME:Global Business Travel Association - GBTA
X-ORIGINAL-URL:https://gbta.org/es
X-WR-CALDESC:Eventos para Global Business Travel Association - GBTA
REFRESH-INTERVAL;VALUE=DURATION:PT1H
X-Robots-Tag:noindex
X-PUBLISHED-TTL:PT1H
BEGIN:VTIMEZONE
TZID:America/New_York
BEGIN:DAYLIGHT
TZOFFSETFROM:-0500
TZOFFSETTO:-0400
TZNAME:EDT
DTSTART:20240310T070000
END:DAYLIGHT
BEGIN:STANDARD
TZOFFSETFROM:-0400
TZOFFSETTO:-0500
TZNAME:EST
DTSTART:20241103T060000
END:STANDARD
END:VTIMEZONE
BEGIN:VEVENT
DTSTART;TZID=America/New_York:20240419T090000
DTEND;TZID=America/New_York:20240419T120000
DTSTAMP:20260419T194454
CREATED:20240404T161749Z
LAST-MODIFIED:20240408T144138Z
UID:15321-1713517200-1713528000@gbta.org
SUMMARY:Texas Education Day 2024 - GTP Credit Approved
DESCRIPTION:Please join us at the The Westin Dallas Stonebriar Golf Resort & Spa\, Frisco\, TX\nApril 18-19\, 2024 for Texas Education Day 2024 (Hosted by Dallas-Ft. Worth GBTA Chapter) \n \n“Illuminate” \nApril 18th\n5:00 PM – 7:00 PM – Opening Reception \nApril 19th\n7:30 AM – 5:00 PM\nThe Day will kick off with breakfast and an opportunity to network and meet some of our\namazing suppliers with a tradeshow! \nGeneral Session Presentations\n9:00 AM – 12:00 Noon\nBTN Top 25 Most Influential Travel Professionals – Panel Discussion Panelists including Doreen Burse\, Sr VP Worldwide Sales\, United Airlines\, David Harvey\, Chief Sales Officer\, Southwest Airlines and many more! \nAn exciting Lunch/Fireside Chat with Suzanne Neufang\, GBTA CEO\, and Dave Harvey\, Southwest Airlines \nThere will be some great afternoon breakout sessions that you won’t want to miss. Topics including sustainability\, duty of care\, and a Travel Buyers panel moderated by Yvonne Domeier\, Manager of Sustainability\, Delta Air Lines.
URL:https://gbta.org/es/event/texas-education-day-2024-2024-04-19/
CATEGORIES:North America,US Chapter Event
END:VEVENT
END:VCALENDAR