BEGIN:VCALENDAR
VERSION:2.0
PRODID:-//Global Business Travel Association - GBTA - ECPv6.9.0//NONSGML v1.0//EN
CALSCALE:GREGORIAN
METHOD:PUBLISH
X-ORIGINAL-URL:https://gbta.org/es
X-WR-CALDESC:Eventos para Global Business Travel Association - GBTA
REFRESH-INTERVAL;VALUE=DURATION:PT1H
X-Robots-Tag:noindex
X-PUBLISHED-TTL:PT1H
BEGIN:VTIMEZONE
TZID:America/New_York
BEGIN:DAYLIGHT
TZOFFSETFROM:-0500
TZOFFSETTO:-0400
TZNAME:EDT
DTSTART:20240310T070000
END:DAYLIGHT
BEGIN:STANDARD
TZOFFSETFROM:-0400
TZOFFSETTO:-0500
TZNAME:EST
DTSTART:20241103T060000
END:STANDARD
END:VTIMEZONE
BEGIN:VEVENT
DTSTART;TZID=America/New_York:20240513T110000
DTEND;TZID=America/New_York:20240513T130000
DTSTAMP:20260421T142609
CREATED:20240508T165737Z
LAST-MODIFIED:20240508T165737Z
UID:15909-1715598000-1715605200@gbta.org
SUMMARY:Navigating horizons: unlocking efficiency in travel & expense payment solutions
DESCRIPTION:Chapter: GBTA Rocky Mountain \nDescription: Join us in May to learn more about streamlining the complex world of payment and expense. Key Topics Include:\n✔ Integrations for Travel & Expense Platforms\n✔ Technology and Innovation: Enhancing the Customer Journey\n✔ Virtual payments and the Entire Travel Ecosystem\nThank you to our Gold Sponsor\, Aer Lingus! \nSpeaker: Jeff Ochaita\, Senior Director Customer Technology & Global Solutions – Adelman Travel/GBTA Payments Committee Member \nLocation: The Art Hotel Denver (1201 Broadway\, Denver CO 80203) \nPrice: $35 member/All Access Members\, $60 non-members\, $25 additional fee for late registrations after May 10th.
URL:https://gbta.org/es/event/navigating-horizons-unlocking-efficiency-in-travel-expense-payment-solutions/
CATEGORIES:North America,US Chapter Event
END:VEVENT
BEGIN:VEVENT
DTSTART;TZID=America/New_York:20240513T110000
DTEND;TZID=America/New_York:20240513T180000
DTSTAMP:20260421T142609
CREATED:20240321T140415Z
LAST-MODIFIED:20240321T140415Z
UID:15216-1715598000-1715623200@gbta.org
SUMMARY:GBTA North Carolina Annual Tee Up For Travel @ Grandover Resort & Spa
DESCRIPTION:The GBTA North Carolina Board and Committee members have come together\, to bring you a day\, filled with fun activities! Golfers may head out to the beautiful Grandover Resort Golf Course\, while the non-golfers can stay and participate in something hands on & creative. \nRegistration open for all Buyers & Suppliers and their clients\, teams & peers. \nEvent Inclusions\n-18 Holes of Golf with Cart Included OR Non-Golf Activity (TBA)\n– Boxed Lunch at start of round\n– 2 Drink Tickets/person\n– Evening bites \nThere will be a Charity we donate a portion of the proceeds to. Get ready for Raffle Drawings & Prizes. Registration Costs for members starting at $125.00 per person & non-members at $150.00 per person \nFor Sponsorship Opportunities please reach out to brandon.stump@us.fcm.travel or paula.finn@tiaa.org See attached letter
URL:https://gbta.org/es/event/gbta-north-carolina-annual-tee-up-for-travel-grandover-resort-spa/
CATEGORIES:North America,US Chapter Event
END:VEVENT
END:VCALENDAR