BEGIN:VCALENDAR
VERSION:2.0
PRODID:-//Global Business Travel Association - GBTA - ECPv6.9.0//NONSGML v1.0//EN
CALSCALE:GREGORIAN
METHOD:PUBLISH
X-ORIGINAL-URL:https://gbta.org/es
X-WR-CALDESC:Eventos para Global Business Travel Association - GBTA
REFRESH-INTERVAL;VALUE=DURATION:PT1H
X-Robots-Tag:noindex
X-PUBLISHED-TTL:PT1H
BEGIN:VTIMEZONE
TZID:America/New_York
BEGIN:DAYLIGHT
TZOFFSETFROM:-0500
TZOFFSETTO:-0400
TZNAME:EDT
DTSTART:20240310T070000
END:DAYLIGHT
BEGIN:STANDARD
TZOFFSETFROM:-0400
TZOFFSETTO:-0500
TZNAME:EST
DTSTART:20241103T060000
END:STANDARD
TZID:America/Kentucky/Louisville
BEGIN:DAYLIGHT
TZOFFSETFROM:-0500
TZOFFSETTO:-0400
TZNAME:EDT
DTSTART:20240310T070000
END:DAYLIGHT
BEGIN:STANDARD
TZOFFSETFROM:-0400
TZOFFSETTO:-0500
TZNAME:EST
DTSTART:20241103T060000
END:STANDARD
END:VTIMEZONE
BEGIN:VEVENT
DTSTART;VALUE=DATE:20240521
DTEND;VALUE=DATE:20240524
DTSTAMP:20260421T204033
CREATED:20240221T135904Z
LAST-MODIFIED:20240221T135904Z
UID:14737-1716249600-1716508799@gbta.org
SUMMARY:GBTA Ladders 2024 Summit & 10 Year Celebration
DESCRIPTION:The culmination of the GBTA Ladders season is an awe-inspiring Summit\, May 21-23\, that brings together professionals from across the industry to learn\, network\, and innovate. Through powerful presentations and global networking opportunities\, the Summit aims to inspire current and future business travel leaders to drive positive change and shape the future of the industry. \nLearn More
URL:https://gbta.org/es/event/gbta-ladders-2024-summit-10-year-celebration/
CATEGORIES:Ladders
END:VEVENT
BEGIN:VEVENT
DTSTART;TZID=America/New_York:20240522T080000
DTEND;TZID=America/New_York:20240522T150000
DTSTAMP:20260421T204033
CREATED:20240314T043644Z
LAST-MODIFIED:20240314T043644Z
UID:15103-1716364800-1716390000@gbta.org
SUMMARY:DCGBTA 7th Annual Golf Event & Inaugural Pickleball Clinic and Tournament!
DESCRIPTION:Chapter/Committee/Partner Name: DCGBTA 7th Annual Golf Event & Inaugural Pickleball Clinic and Tournament\nDescription: Sponsored by Delta Air Lines\, this year will be our 7th Annual Golf Event – featuring fun and competitive challenges and prizes and ample networking opportunities! To add to the excitement\, we will host our very first Pickleball Clinic and Tournament Sponsored by Southwest Airlines! Come join us! The day will begin with Continental Breakfast at registration as we send the Golfers out to the course for a “shot-gun start” at 8am. We anticipate Pickleball to begin at 10am with a Pro Clinic\, then Tournament play until 1pm. For those who prefer not to “play\,” we are pleased to offer Wine Tasting at 11am. In the afternoon\, we will feature a delicious buffet meal\, with awards and presentations by our sponsors and leadership team. Check back for more details\, but be sure to register to attend as we will be limited in space for golf (120) and pickleball (20)! See you there!\nEvent Speaker: N/A\nLocation of Event: Bretton Woods Golf & Country Club\n15770 River Rd.\nGermantown\, MD 20874
URL:https://gbta.org/es/event/dcgbta-7th-annual-golf-event-inaugural-pickleball-clinic-and-tournament/
CATEGORIES:North America,US Chapter Event
END:VEVENT
BEGIN:VEVENT
DTSTART;TZID=America/New_York:20240522T080000
DTEND;TZID=America/New_York:20240522T150000
DTSTAMP:20260421T204033
CREATED:20240418T115828Z
LAST-MODIFIED:20240418T115828Z
UID:15593-1716364800-1716390000@gbta.org
SUMMARY:Golf Tournament & Pickleball Clinic
DESCRIPTION:Sponsored by Delta Air Lines\, this year will be our 7th Annual Golf Event – featuring fun and competitive challenges and prizes and ample networking opportunities! To add to the excitement\, we will host our very first Pickleball Clinic and Tournament Sponsored by Southwest Airlines! Come join us! The day will begin with Continental Breakfast at registration as we send the Golfers out to the course for a “shot-gun start” at 8am. We anticipate Pickleball to begin at 10am with a Pro Clinic\, then Tournament play until 1pm. For those who prefer not to “play\,” we are pleased to offer Wine Tasting at 11am. In the afternoon\, we will feature a delicious buffet meal\, with awards and presentations by our sponsors and leadership team. Check back for more details\, but be sure to register to attend as we will be limited in space for golf (120) and pickleball (40)! See you there! \nAvailable Sponsorship Opportunities: \nBreakfast Sponsor – Includes Foursome for Golf\, Breakfast\, Lunch & 2 Drink Tickets per Player ($3\,000) \nLunch Sponsor – Includes Foursome for Golf\, Breakfast\, Lunch & 2 Drink Tickets per Player ($3\,000) \nOpen Bar Sponsor! – Includes Registration for 2 Golfers\, Breakfast\, Lunch & 2 Drink Tickets per Player ($2\,000) \nInaugural Wine Tasting Event Sponsor – Includes Lunch & Wine Tasting for 2 ($750) \n“Closest to the Pin” Hole Contest Sponsor! – Includes Registration for 1 Golfer\, Breakfast\, Lunch & 2 Drink Tickets ($750) \nHole Sponsor – Feature your Brand! ($250)
URL:https://gbta.org/es/event/golf-tournament-pickleball-clinic/
CATEGORIES:North America,US Chapter Event
END:VEVENT
BEGIN:VEVENT
DTSTART;TZID=America/New_York:20240522T083000
DTEND;TZID=America/New_York:20240522T170000
DTSTAMP:20260421T204033
CREATED:20240412T112752Z
LAST-MODIFIED:20240508T162102Z
UID:15484-1716366600-1716397200@gbta.org
SUMMARY:LABTA Education Day - GTP Credit Approved
DESCRIPTION:Chapter Name: Los Angeles\nDescription: Education Day (all day) – Come join the GBTA Los Angeles Chapter at our annual Education Day on May 22nd at the beautiful Marina Del Rey Hotel. Education Day is one of most popular events of the year; due to limited capacity\, don’t procrastinate on registering. This all-day event will include hot topics (NDC\, AI and more) on panel discussions and guest speakers; it includes a free professional headshot\, breakfast\, lunch\, and will conclude with a happy hour!\nEvent Speaker: Many – visit https://labta.org/ for details\nLocation of Event: Marina Del Rey Hotel\, Marina Del Rey\, CA\nPrice: $125 (chapter members); $150 for all others
URL:https://gbta.org/es/event/labta-education-day/
CATEGORIES:North America,US Chapter Event
END:VEVENT
BEGIN:VEVENT
DTSTART;TZID=America/Kentucky/Louisville:20240522T110000
DTEND;TZID=America/Kentucky/Louisville:20240522T120000
DTSTAMP:20260421T204033
CREATED:20240126T080852Z
LAST-MODIFIED:20240522T144101Z
UID:14226-1716375600-1716379200@gbta.org
SUMMARY:Board of Directors Candidate Forum 2024
DESCRIPTION:
URL:https://gbta.org/es/event/board-of-directors-candidate-forum-2024/
CATEGORIES:North America,Online Courses & Webinars
END:VEVENT
END:VCALENDAR