BEGIN:VCALENDAR
VERSION:2.0
PRODID:-//Global Business Travel Association - GBTA - ECPv6.9.0//NONSGML v1.0//EN
CALSCALE:GREGORIAN
METHOD:PUBLISH
X-ORIGINAL-URL:https://gbta.org/es
X-WR-CALDESC:Eventos para Global Business Travel Association - GBTA
REFRESH-INTERVAL;VALUE=DURATION:PT1H
X-Robots-Tag:noindex
X-PUBLISHED-TTL:PT1H
BEGIN:VTIMEZONE
TZID:America/New_York
BEGIN:DAYLIGHT
TZOFFSETFROM:-0500
TZOFFSETTO:-0400
TZNAME:EDT
DTSTART:20240310T070000
END:DAYLIGHT
BEGIN:STANDARD
TZOFFSETFROM:-0400
TZOFFSETTO:-0500
TZNAME:EST
DTSTART:20241103T060000
END:STANDARD
END:VTIMEZONE
BEGIN:VEVENT
DTSTART;TZID=America/New_York:20241113T080000
DTEND;TZID=America/New_York:20241113T170000
DTSTAMP:20260422T013343
CREATED:20240917T050633Z
LAST-MODIFIED:20241017T033553Z
UID:17546-1731484800-1731517200@gbta.org
SUMMARY:Australia Corporate Travel Summit (ACTS)
DESCRIPTION:GBTA is partnering with the Australia Corporate Travel Summit (ACTS) – which will take place at the Sheraton Grand on the Park in Sydney\, on November 13\, 2024.  We are pleased to share that all GBTA members will receive an exclusive 40% discount to attend – please contact enquiries@gbta.org for more information. \nWhy Attend?\nJoin us at the Australia Corporate Travel Summit for unparalleled networking\, knowledge sharing\, and collaboration in the corporate travel industry. You’ll have the opportunity to explore the latest trends\, innovations\, and gain valuable insights from top C-level speakers. Discover more here. \nTime & Location\n13 Nov 2024\, 8:00 am – 5:30 pm\nSheraton Grand Sydney Hyde Park\, 161 Elizabeth St\, Sydney NSW 2000\, Australia \nLearn more
URL:https://gbta.org/es/event/australia-corporate-travel-summit-acts/
CATEGORIES:APAC,Conference/Convention
END:VEVENT
BEGIN:VEVENT
DTSTART;TZID=America/New_York:20241113T100000
DTEND;TZID=America/New_York:20241113T153000
DTSTAMP:20260422T013343
CREATED:20241029T082111Z
LAST-MODIFIED:20241029T082422Z
UID:18497-1731492000-1731511800@gbta.org
SUMMARY:Sustainability and Travel
DESCRIPTION:Please join us on Wednesday\, November 13th\, at the Milwaukee Marriott Downtown to learn about Sustainability in Business Travel! \nAccording to Earth.org\, the average US consumer throws away 81.5 lbs of clothes each year! GBTA | WI would like to help reduce the amount of textiles ending up in landfills\, so we have teamed up with The Milwaukee Ladies of Charity for a children’s clothing drive. Please bring new or gently used clothing for ages 3 to 18 and all adult sizes (for high school students) to our meeting. You will receive a raffle ticket for a drawing for every article donated. \nREMEMBER….don’t forget to bring your favorite water bottle in support of sustainability! \nWe are thrilled to welcome Marianne Balfe\, Vice-President of Sustainability at Highgate\, as our Guest Speaker! \nWe will also have a presentation from Delta Air Lines\, Henry Barrera\, on Sustainable Aviation Fuels. \nMeeting Agenda:\n10:00 am – 10:15 am Registration for Direct Members\n10:15 am – 11:15 am Direct (Travel Buyer) Session\n11:15 am – 12:00 pm Registration for all members +\nNetworking\n12:00 pm – 1:00 pm Lunch + Intro to Reflo\n1:00 pm – 3:00 pm Chapter Meeting\n3:00 pm – ?? Hotel Tour + Networking\nin the East Town Kitchen & Bar\nReflo\nAs a nonprofit organization\, Reflo’s mission is to catalyze sustainable water use\, green infrastructure\, and equitable water resource management that support triple-bottom-line outcomes that are grounded in strong partner relationships. We will accomplish our objectives through education\, research\, and the implementation of water projects that are valuable for individuals\, local communities\, and the organizations that support them. \nWe are now accepting donations for our annual fundraiser! Click Here to learn more. \nTo donate & complete our online donation form\, please CLICK HERE. \nMeeting Venue: \nMilwaukee Marriott Downtown\n625 N. Milwaukee Ave\nMilwaukee\, WI 53202\nCLICK HERE before Wednesday\, October 23rd\, for our GBTA | WI special rate!
URL:https://gbta.org/es/event/sustainability-and-travel/
CATEGORIES:North America,US Chapter Event
END:VEVENT
BEGIN:VEVENT
DTSTART;TZID=America/New_York:20241113T100000
DTEND;TZID=America/New_York:20241113T153000
DTSTAMP:20260422T013343
CREATED:20241105T144947Z
LAST-MODIFIED:20241105T144947Z
UID:18623-1731492000-1731511800@gbta.org
SUMMARY:GBTA Wisconsin Chapter Meeting
DESCRIPTION:GBTA Wisconsin Chapter Meeting November 13th-Milwaukee Marriott\nOur first ever sustainability sponsor: The Green Bay Airport\nSocial Hour sponsor: Delta Airlines\nTopic: Sustainable Travel Management 101\nEvent speaker: MARIANNE BALFE\, Vice President of Sustainability Highgate \n2nd speaker/Activity: Urban Ecology Center. 30-minute interactive segment hosted by the Urban Ecology Center focusing on reducing single use plastic during travel. Participants will brainstorm ideas and will be complied to be shared with their companies and travelers. \nWe will be having a children’s clothing donation drive at our meeting to donate to the Milwaukee Ladies of Charity. \nWe will have Sustainability Jeopardy-with prizes of water bottles for the winners! \nFollowing the in person Direct Session\, we will have registration\, lunch\, business chapter meeting\, activity with Urban Ecology\, and the main speaker. \nWe will also have a hotel tour to highlight their sustainability efforts with the Marriott Brand. After the tour we will have drinks and networking in the East Town Kitchen and Bar.
URL:https://gbta.org/es/event/gbta-wisconsin-chapter-meeting/
CATEGORIES:North America,US Chapter Event
END:VEVENT
BEGIN:VEVENT
DTSTART;TZID=America/New_York:20241113T110000
DTEND;TZID=America/New_York:20241113T120000
DTSTAMP:20260422T013343
CREATED:20241014T071813Z
LAST-MODIFIED:20241014T072103Z
UID:18067-1731495600-1731499200@gbta.org
SUMMARY:The 2024 Business Travel Index Outlook: What Is In Store for 2024 and Beyond
DESCRIPTION:For nearly two decades\, the GBTA Business Travel Index (BTI) has been the preeminent tool for projecting both the current landscape and future trajectory of the industry. The 2024 BTI\, made possible through a collaboration with Visa\, offers invaluable insights and comprehensive analysis\, along with a detailed five-year forecast for the corporate travel sector. By illuminating critical data and addressing economic\, business\, and traveler considerations\, the GBTA BTI™ seeks to empower policymakers\, organizations\, and professionals who support global business travelers. \nIn addition\, the GBTA BTI™ incorporates insights from over 4\,000 business travelers across 28 countries\, exploring topics such as the role of corporate travel managers\, the evolving preferences and practices of business travelers\, and the use of corporate cards and alternative payment methods during their journeys. \nJoin us for an insightful webinar where we will delve into the latest forecasts for the business travel industry and gain invaluable perspectives from business travelers around the world \nSpeakers: \n\nEdward Galvin\, Vice President & Head of North America B2B Commercial Payments Sales \n\nJon Gray\, Economist and Principal\, Rockport Analytics \nLocation: Webinar \nDate: Nov. 13\, 2024\nStart Time: 11am EST\nEnd Time: 12pm EST \nSponsor:
URL:https://gbta.org/es/event/the-2024-business-travel-index-outlook-what-is-in-store-for-2024-and-beyond/
CATEGORIES:North America,Online Courses & Webinars
END:VEVENT
BEGIN:VEVENT
DTSTART;TZID=America/New_York:20241113T120000
DTEND;TZID=America/New_York:20241113T170000
DTSTAMP:20260422T013343
CREATED:20241105T145714Z
LAST-MODIFIED:20241105T145714Z
UID:18639-1731499200-1731517200@gbta.org
SUMMARY:Corporate Travel Excellence & Giving Back: November Edition
DESCRIPTION:GBTA | Central & Northern Florida\nCorporate Travel Excellence & Giving Back: November Edition \nJoin GBTA | Central & Northern Florida for a day of Corporate Travel Excellence at Give Kids the World Village! \nImmerse yourself in a day of learning\, connecting\, networking\, and giving back to this incredibly worthy cause close to many of our hearts. Together\, let’s make a difference and create unforgettable experiences for children and families in need. \nNetworking Practices & Professional Development\nLearn how to be an effective networker and develop yourself professionally. This includes a focus on building genuine relationships\, prioritizing quality\, and follow up consistently while setting clear growth goals for yourself. \nTraveler Safety & Wellbeing Panel\nJoin us for an insightful Traveler Safety and Wellbeing Panel where experts will share their invaluable opinions and ideas on keeping travelers safe. With the holiday season fast approaching\, it’s the perfect time to build awareness on safety and wellbeing.
URL:https://gbta.org/es/event/corporate-travel-excellence-giving-back-november-edition/
CATEGORIES:North America,US Chapter Event
END:VEVENT
END:VCALENDAR