BEGIN:VCALENDAR
VERSION:2.0
PRODID:-//Global Business Travel Association - GBTA - ECPv6.9.0//NONSGML v1.0//EN
CALSCALE:GREGORIAN
METHOD:PUBLISH
X-WR-CALNAME:Global Business Travel Association - GBTA
X-ORIGINAL-URL:https://gbta.org/es
X-WR-CALDESC:Eventos para Global Business Travel Association - GBTA
REFRESH-INTERVAL;VALUE=DURATION:PT1H
X-Robots-Tag:noindex
X-PUBLISHED-TTL:PT1H
BEGIN:VTIMEZONE
TZID:America/New_York
BEGIN:DAYLIGHT
TZOFFSETFROM:-0500
TZOFFSETTO:-0400
TZNAME:EDT
DTSTART:20240310T070000
END:DAYLIGHT
BEGIN:STANDARD
TZOFFSETFROM:-0400
TZOFFSETTO:-0500
TZNAME:EST
DTSTART:20241103T060000
END:STANDARD
END:VTIMEZONE
BEGIN:VEVENT
DTSTART;TZID=America/New_York:20241121T083000
DTEND;TZID=America/New_York:20241121T120000
DTSTAMP:20260422T025223
CREATED:20240603T151521Z
LAST-MODIFIED:20241025T140318Z
UID:16304-1732177800-1732190400@gbta.org
SUMMARY:GBTA LATAM Business Travel Forum - Lima
DESCRIPTION:The GBTA LATAM Business Travel Forum – Lima is a half-day event designed to train Travel Managers in corporate travel from Peru. \nBy attending\, you can: \n\nEnhance your corporate travel program knowledge.\nNetwork with local colleagues.\nEngage with event sponsors.\nInvest time in your personal and professional growth.\n\nParticipation is complementary and by invitation only. If you’re interested and you work in travel management\, please email latamevents@gbta.org. Note that expressing interest does not guarantee a spot; a confirmation email from GBTA is required. \nLocation: Casa Andina Premium San Isidro \nTime: 8:30am – 12:00pm (PET) \nRegister here>>
URL:https://gbta.org/es/event/14-november-gbta-latam-business-travel-forum-lima/
CATEGORIES:LATAM,Summits & Workshops
END:VEVENT
BEGIN:VEVENT
DTSTART;TZID=America/New_York:20241121T100000
DTEND;TZID=America/New_York:20241121T110000
DTSTAMP:20260422T025223
CREATED:20241018T044525Z
LAST-MODIFIED:20241030T020515Z
UID:18282-1732183200-1732186800@gbta.org
SUMMARY:Business Travel Outlook 2025: tendenze\, prezzi e scenari
DESCRIPTION:Webinar (Italian) \nDurante il Webinar\, esperti di settore e Travel Manager analizzeranno l’andamento dei viaggi d’affari e condivideranno spunti per affrontare il 2025. \nCambiamenti continui e trasformazioni del workplace stanno influenzando il comparto del business travel:​ \n\nEvoluzione del modo di lavorare (dove e quando)​\nProgressi in tecnologia e automazione ​\nMaggior focus nella sostenibilità ​\nFrammentazione vs. retailing​\nTraveler experience​\n\nIn questo scenario \n\nI meeting in presenza restano essenziali\nIl comparto del Business Travel continua a crescere\nI prezzi inizieranno un periodo incremento inferiore rispetto agli ultimi anni\nSi assisterà verosimilmente ad una fase di stabilizzazione delle condizioni di mercato\nQuest’anno l’Italia supererà lo spending del 2019 per la prima volta\n\nQuali sono le potenziali sfide a cui si va incontro che possono cambiare il corso regolare degli eventi? Qual è lo stato del Business Travel in Italia? Come stanno agendo i Travel Manager? \nNe parliamo il 21 novembre con: \n\nWilliam Cocco\nGlobal Procurement Manager | Travel\, M&E\, Fleet & G&A\nCampari Group \nDaniele Garcia\nEMEIA Developed Markets Travel\, M&E Operations & Engagement Manager\n@EY \nElisa Amerio\nTravel Manager & Strategic Buyer Corporate Communications\n@Siemems \nIl Webinar è Sponsorizzato da
URL:https://gbta.org/es/event/business-travel-outlook-2025-tendenze-prezzi-e-scenari/
CATEGORIES:Italy,Summits & Workshops,Virtual
END:VEVENT
END:VCALENDAR