BEGIN:VCALENDAR
VERSION:2.0
PRODID:-//Global Business Travel Association - GBTA - ECPv6.9.0//NONSGML v1.0//EN
CALSCALE:GREGORIAN
METHOD:PUBLISH
X-WR-CALNAME:Global Business Travel Association - GBTA
X-ORIGINAL-URL:https://gbta.org/es
X-WR-CALDESC:Eventos para Global Business Travel Association - GBTA
REFRESH-INTERVAL;VALUE=DURATION:PT1H
X-Robots-Tag:noindex
X-PUBLISHED-TTL:PT1H
BEGIN:VTIMEZONE
TZID:America/New_York
BEGIN:DAYLIGHT
TZOFFSETFROM:-0500
TZOFFSETTO:-0400
TZNAME:EDT
DTSTART:20240310T070000
END:DAYLIGHT
BEGIN:STANDARD
TZOFFSETFROM:-0400
TZOFFSETTO:-0500
TZNAME:EST
DTSTART:20241103T060000
END:STANDARD
END:VTIMEZONE
BEGIN:VEVENT
DTSTART;TZID=America/New_York:20241210T110000
DTEND;TZID=America/New_York:20241210T114500
DTSTAMP:20260422T014603
CREATED:20241112T142528Z
LAST-MODIFIED:20241112T142803Z
UID:18785-1733828400-1733831100@gbta.org
SUMMARY:U.S. Elections Analysis: What’s In-Store for Business Travel
DESCRIPTION:The U.S. elections have concluded. This webinar will analyze the results\, who is in charge of the White House\, Senate and House of Representatives.\nThe webinar will also examine potential legislative issues to be acted on and what are the opportunities for business travel. \nDate: 10 December 2024\nTime: 11:00AM US Eastern Time | 8:00AM Pacific Standard Time | 5:00PM Central European Time\nLocation: Webinar\nCharge: FREE \nSpeakers/ panellists \n\nShane Downey\, Vice President Government Relations\, GBTA\nJoe Barton\, Cornerstone Government Affairs\nLouie Perry\, Cornerstone Government Affairs
URL:https://gbta.org/es/event/u-s-elections-analysis-whats-in-store-for-business-travel/
CATEGORIES:North America,Online Courses & Webinars,Virtual
END:VEVENT
END:VCALENDAR