BEGIN:VCALENDAR
VERSION:2.0
PRODID:-//Global Business Travel Association - GBTA - ECPv6.9.0//NONSGML v1.0//EN
CALSCALE:GREGORIAN
METHOD:PUBLISH
X-WR-CALNAME:Global Business Travel Association - GBTA
X-ORIGINAL-URL:https://gbta.org/es
X-WR-CALDESC:Eventos para Global Business Travel Association - GBTA
REFRESH-INTERVAL;VALUE=DURATION:PT1H
X-Robots-Tag:noindex
X-PUBLISHED-TTL:PT1H
BEGIN:VTIMEZONE
TZID:America/New_York
BEGIN:DAYLIGHT
TZOFFSETFROM:-0500
TZOFFSETTO:-0400
TZNAME:EDT
DTSTART:20250309T070000
END:DAYLIGHT
BEGIN:STANDARD
TZOFFSETFROM:-0400
TZOFFSETTO:-0500
TZNAME:EST
DTSTART:20251102T060000
END:STANDARD
END:VTIMEZONE
BEGIN:VEVENT
DTSTART;TZID=America/New_York:20250409T110000
DTEND;TZID=America/New_York:20250409T123000
DTSTAMP:20260420T023210
CREATED:20250307T173018Z
LAST-MODIFIED:20250314T062523Z
UID:21510-1744196400-1744201800@gbta.org
SUMMARY:New Ways to Find Savings in your Hotel Program by the US Accommodations Committee - GTP Credit Approved
DESCRIPTION:New Ways to Find Savings in your Hotel Program by the\nUS Accommodations Committee \n \nWhat gets measured gets done. \nThe GBTA Accommodations Committee (US) will educate our audience on 3 new ways that travel managers can find and calculate savings in their hotel program on this interactive webinar.
URL:https://gbta.org/es/event/new-ways-to-find-savings-in-your-hotel-program-by-the-us-accommodations-committee/
CATEGORIES:North America,Virtual
END:VEVENT
END:VCALENDAR