BEGIN:VCALENDAR
VERSION:2.0
PRODID:-//Global Business Travel Association - GBTA - ECPv6.9.0//NONSGML v1.0//EN
CALSCALE:GREGORIAN
METHOD:PUBLISH
X-ORIGINAL-URL:https://gbta.org/es
X-WR-CALDESC:Eventos para Global Business Travel Association - GBTA
REFRESH-INTERVAL;VALUE=DURATION:PT1H
X-Robots-Tag:noindex
X-PUBLISHED-TTL:PT1H
BEGIN:VTIMEZONE
TZID:America/New_York
BEGIN:DAYLIGHT
TZOFFSETFROM:-0500
TZOFFSETTO:-0400
TZNAME:EDT
DTSTART:20250309T070000
END:DAYLIGHT
BEGIN:STANDARD
TZOFFSETFROM:-0400
TZOFFSETTO:-0500
TZNAME:EST
DTSTART:20251102T060000
END:STANDARD
END:VTIMEZONE
BEGIN:VEVENT
DTSTART;TZID=America/New_York:20250416T160000
DTEND;TZID=America/New_York:20250416T190000
DTSTAMP:20260420T005032
CREATED:20250318T131536Z
LAST-MODIFIED:20250318T131536Z
UID:21719-1744819200-1744830000@gbta.org
SUMMARY:GBTA | San Diego April Networking Event
DESCRIPTION:The GBTA San Diego Chapter would like to welcome everyone to a unique networking event!\nWe recognize the opportunity to grow our business travel community by creating special events in San Diego.\nPlease join us for this community outreach event at the Hacienda Hotel in Old Town\, San Diego.\nThe event will feature cocktails\, hors d’ oeuvres and beautiful views through Old Town to the Bay from the Tequila Factory Restaurant.\nThis reception will include valuable networking time with business travel managers\, suppliers and industry leaders. \nJoin us at:\nHacienda Hotel Old Town\nTequila Factory Restaurant\n2467 Juan Street\nSan Diego CA 92110 \nRegistration: $25.00 per person
URL:https://gbta.org/es/event/gbta-san-diego-april-networking-event/
CATEGORIES:North America,US Chapter Event
END:VEVENT
END:VCALENDAR