BEGIN:VCALENDAR
VERSION:2.0
PRODID:-//Global Business Travel Association - GBTA - ECPv6.9.0//NONSGML v1.0//EN
CALSCALE:GREGORIAN
METHOD:PUBLISH
X-ORIGINAL-URL:https://gbta.org/es
X-WR-CALDESC:Eventos para Global Business Travel Association - GBTA
REFRESH-INTERVAL;VALUE=DURATION:PT1H
X-Robots-Tag:noindex
X-PUBLISHED-TTL:PT1H
BEGIN:VTIMEZONE
TZID:America/New_York
BEGIN:DAYLIGHT
TZOFFSETFROM:-0500
TZOFFSETTO:-0400
TZNAME:EDT
DTSTART:20250309T070000
END:DAYLIGHT
BEGIN:STANDARD
TZOFFSETFROM:-0400
TZOFFSETTO:-0500
TZNAME:EST
DTSTART:20251102T060000
END:STANDARD
END:VTIMEZONE
BEGIN:VEVENT
DTSTART;TZID=America/New_York:20250501T100000
DTEND;TZID=America/New_York:20250501T120000
DTSTAMP:20260420T010204
CREATED:20241017T161311Z
LAST-MODIFIED:20250102T205627Z
UID:18254-1746093600-1746100800@gbta.org
SUMMARY:The Fundamentals of Business Travel Management
DESCRIPTION:Tentative start date: May\, 2025\nTimes: Live online classes weekly\, US/CA time zone \nThe Fundamentals of Business Travel Management course is designed for travel buyers and suppliers who want a deeper understanding of the foundational elements of a corporate travel policy. Learners will gain a better understanding of business travel management and make themselves indispensable to the needs of their organization. \nParticipants earn 14 GTP Recertification credits. \nCore Curriculum \n\nOverview of Travel Management\nTravel Policy\nCreating a Service Model\nTravel Technology Basics\nStrategic Sourcing/Vendor Management\n\nPricing \n$295 member/$675 non-member
URL:https://gbta.org/es/event/the-fundamentals-of-business-travel-management-7/
CATEGORIES:Canada,Learning,North America,Virtual
END:VEVENT
BEGIN:VEVENT
DTSTART;TZID=America/New_York:20250501T110000
DTEND;TZID=America/New_York:20250501T130000
DTSTAMP:20260420T010204
CREATED:20250107T102019Z
LAST-MODIFIED:20250127T042323Z
UID:19781-1746097200-1746104400@gbta.org
SUMMARY:May Meeting
DESCRIPTION:PSBTA\nJoin us for our May monthly meeting at the Washington Athletic Club. Plan accordingly for a congested afternoon commute and stay afterwards for happy hour with your industry friends.
URL:https://gbta.org/es/event/may-meeting/
CATEGORIES:North America,US Chapter Event
END:VEVENT
BEGIN:VEVENT
DTSTART;TZID=America/New_York:20250501T110000
DTEND;TZID=America/New_York:20250501T130000
DTSTAMP:20260420T010204
CREATED:20250312T183945Z
LAST-MODIFIED:20250312T183945Z
UID:21588-1746097200-1746104400@gbta.org
SUMMARY:PSBTA May 1st Meeting
DESCRIPTION:PSBTA\nDon’t miss this incredible opportunity to hear from our GBTA President\, Mark Cuschieri and an amazing Buyers’ Panel!\nJoin us for insights\, connections\, and industry expertise! See your seat now!\nRegister TODAY \nCo-hosted by Puget Sound and Oregon Chapters \nMake sure you register and plan ahead for your afternoon commute as our meeting falls over May 1st which is historically a large protest day in downtown Seattle with lots of traffic congestion/road blocks/etc. We suggest you stay after for happy hour with our industry friends at the WAC! \nAll Direct/Buyers are welcome to join our FREE Buyers forum that occurs prior to our monthly meetings at 9am. \nLocation: Washington Athletic Club\n1325 6th Avenue\nSeattle\, WA 98101 \nPrice:\n$60.00 Members\n$85.00 after 5:00 pm April 24 \n$60.00 Non-Members\n$85.00 after 05:00 pm April 24 \n$10.00 Bingo – 3 tickets for $10 \n$60.00 All Access GBTA Member Ticket\n$85.00 after 5:00 pm April 24
URL:https://gbta.org/es/event/psbta-may-1st-meeting/
CATEGORIES:North America,US Chapter Event
END:VEVENT
END:VCALENDAR