BEGIN:VCALENDAR
VERSION:2.0
PRODID:-//Global Business Travel Association - GBTA - ECPv6.9.0//NONSGML v1.0//EN
CALSCALE:GREGORIAN
METHOD:PUBLISH
X-ORIGINAL-URL:https://gbta.org/es
X-WR-CALDESC:Eventos para Global Business Travel Association - GBTA
REFRESH-INTERVAL;VALUE=DURATION:PT1H
X-Robots-Tag:noindex
X-PUBLISHED-TTL:PT1H
BEGIN:VTIMEZONE
TZID:America/New_York
BEGIN:DAYLIGHT
TZOFFSETFROM:-0500
TZOFFSETTO:-0400
TZNAME:EDT
DTSTART:20250309T070000
END:DAYLIGHT
BEGIN:STANDARD
TZOFFSETFROM:-0400
TZOFFSETTO:-0500
TZNAME:EST
DTSTART:20251102T060000
END:STANDARD
END:VTIMEZONE
BEGIN:VEVENT
DTSTART;TZID=America/New_York:20250514T080000
DTEND;TZID=America/New_York:20250514T170000
DTSTAMP:20260420T013935
CREATED:20250221T094704Z
LAST-MODIFIED:20250221T094705Z
UID:21359-1747209600-1747242000@gbta.org
SUMMARY:DMV 8th Annual Golf Event & Inaugural Pickleball Clinic and Tournament
DESCRIPTION:Join our 7th Annual Golf Event featuring fun\, competitive challenges\, prizes and ample networking opportunities! To add to the excitement\, we will host our 2nd Pickleball Clinic and Tournament due to fantastic turnout last year! The day will begin with Continental Breakfast at registration as we send the Golfers out to the course for a “shot-gun start” at 8am. We anticipate Pickleball to begin at 10am with a Pro Clinic\, then Tournament play until 1pm. For those who prefer not to “play\,” we are pleased to offer Wine Tasting at 11am. In the afternoon\, we will feature a delicious buffet meal\, with awards and presentations by our sponsors and leadership team. Check back for more details\, but be sure to register to attend as we will be limited in space for golf (40) and pickleball (40)! See you there! \nAvailable Sponsorship Opportunities: \nBreakfast Sponsor – Includes Foursome for Golf\, Breakfast\, Lunch & 2 Drink Tickets per Player ($3\,000) \nLunch Sponsor – Includes Foursome for Golf\, Breakfast\, Lunch & 2 Drink Tickets per Player ($3\,000) \nOpen Bar Sponsor! – Includes Registration for 2 Golfers\, Breakfast\, Lunch & 2 Drink Tickets per Player ($2\,000) \n“Closest to the Pin” Hole Contest Sponsor! – Includes Registration for 1 Golfer\, Breakfast\, Lunch & 2 Drink Tickets ($750) \nHole Sponsor – Feature your Brand! ($250)
URL:https://gbta.org/es/event/dmv-8th-annual-golf-event-inaugural-pickleball-clinic-and-tournament/
CATEGORIES:North America,US Chapter Event
END:VEVENT
BEGIN:VEVENT
DTSTART;TZID=America/New_York:20250514T083000
DTEND;TZID=America/New_York:20250514T123000
DTSTAMP:20260420T013935
CREATED:20250103T074753Z
LAST-MODIFIED:20250409T145739Z
UID:19720-1747211400-1747225800@gbta.org
SUMMARY:GBTA LATAM Business Travel Forum 2025 - Santiago de Chile | 14 de mayo
DESCRIPTION:Tailored Events for Travel Managers (Corporate Travel Buyers)\nThe GBTA LATAM Business Travel Forums are a series of exclusive half-day events crafted for Travel Managers in the corporate travel sector\, taking place in major cities across Argentina\, Brazil\, Colombia\, Mexico\, Chile\, and Peru.\nLast year\, we gathered over 200 industry professionals at our events. This year\, don’t miss the chance to be part of this exceptional opportunity. \nBy attending\, you will:\n• Gain updated insights to enhance your corporate travel programs.\n• Expand your network and connect with fellow professionals in your region.\n• Discover key aspects of travel procurement\, including airlines\, hotels\, car rental services\, travel management companies\, expense reporting\, and risk management.\n• Engage with select sponsors who make this event possible.\n• Invest in your personal and professional growth. \nRegister here\n\nRegístrate ahora
URL:https://gbta.org/es/event/gbta-latam-business-travel-forum-2025-santiago-de-chile-14-de-mayo/
CATEGORIES:LATAM,Summits & Workshops
END:VEVENT
BEGIN:VEVENT
DTSTART;TZID=America/New_York:20250514T093000
DTEND;TZID=America/New_York:20250514T133000
DTSTAMP:20260420T013935
CREATED:20250130T060643Z
LAST-MODIFIED:20250505T115842Z
UID:20734-1747215000-1747229400@gbta.org
SUMMARY:Roadshow GBTA Italia - Firenze
DESCRIPTION:Per la prima volta\, i contenuti di GBTA sotto forma di Masterclass arrivano a Firenze in una sessione interattiva: Insight di mercato\, Sostenibilità\, Travel and Expenses Management\, D&I. \nNetworking\, Aggiornamento\, Best Practice \nRiserva il tuo posto\, qua: https://events.gbta.org/er82KP \nLocation\nIl Roadshow si tiene in Firenze città presso l’Hotel NH Firenze in Piazza Vittorio Veneto\, 4/A \n\n			\n				\n			\n			\n				\n			\n			\n				\n			\n			\n				\n			\n		\n\nAgenda\nL’agenda è in via di definizione. Gli orari del Roadshow sono: \n9.30 – Accredito e Welcome Coffee \n10.00 – Inizio lavori \n12.45 – Light Lunch \n  \nRelatori\nTra i relatori\, saranno presenti: \n\n\n\n\n\n\n\n\nCarlotta Ferrari\nPresidente @ Convention Bureau Italia\,\nGeneral Manager @ Fondazione Destination Florence\n\nMarco Quagliarella\nGeneral Manager Corporate Pharma Division & International Operation\n@ AIM Group International\nGiuseppe Viesti\nTravel and Mobility Manager\n@ Salvatore Ferragamo\n\n\n\n  \n\n\n\n\n\n\n\n\nCesare Belosi\nGlobal Travel & Expenses Manager\n@ CNH\nEliana Sanvito\nAccount Manager Corporate\n@ Cathay Pacific\nChristian Isola\nChief Commercial Officer\n@Locauto Group\n\n\n\n  \nAccesso\nL’evento è dedicato a Travel/Event/Mobility Manager e Supplier del Travel. \nL’accesso all’evento è gratuito\, previa registrazione. I posti sono limitati\, consigliamo la registrazione appena possibile. \nIl roadshow è possibile grazie a: \n\n			\n				\n			\n			\n				\n			\n			\n				\n			\n			\n				\n			\n			\n				\n			\n		\n\nRegistrazioni
URL:https://gbta.org/es/event/roadshow-gbta-italia-firenze/
CATEGORIES:Italy,Summits & Workshops
END:VEVENT
BEGIN:VEVENT
DTSTART;TZID=America/New_York:20250514T100000
DTEND;TZID=America/New_York:20250514T160000
DTSTAMP:20260420T013935
CREATED:20250402T125406Z
LAST-MODIFIED:20250410T154041Z
UID:21938-1747216800-1747238400@gbta.org
SUMMARY:GBTA Wisconsin Travel Buyer Panel DIscussion - GTP Credit Approved
DESCRIPTION:GBTA Wisconsin May 14th Travel Buyer Panel! \nTravel and Expense leaders will discuss how they are enhancing the effectiveness of their travel programs in 2025. We’ll discuss high-level concerns\, global travel policy factors\, NDC progress\, Duty of Care\, and emerging technologies. \n \nModerated by Jesse Funk with our Featured Panelists including:\nKara Peters\, Strategic Sourcing Manager\, Sick\nElizabeth Dressel\, Director of Travel Management Services\, University of Wisconsin\nAna Cortes Mata\, Corporate Travel Manager & GSS Analyst\, Rockline \nMeeting Venue:\nPromega Corporation\n2800 Woods Hollow Road\, Madison\, WI 53711 \nNeed Overnight Accommodations?\nBook before 5/7/25\nGBTA Room Block Link\nor call the hotel directly at 608-251-2300 & use the code GBM\nSheraton Madison Hotel\n706 John Nolen Drive\nMadison\, WI 53713 \nAgenda:\n9:30 am – 10:30 am Direct-Only Session in-Person at the Sheraton Madison \n11:00 am – 12:00 pm Registration & Networking at Promega Corporation \n12:00 pm – 1:00 pm Lunch and Business Meeting \n1:00 pm – 2:00 pm Travel Buyer Discussion \n2:00 pm – 3:00 pm Promega Tour \n3:00pm-? Drinks (on your own) and Networking at the Thirsty Goat
URL:https://gbta.org/es/event/gbta-wisconsin-travel-buyer-panel-discussion/
CATEGORIES:North America,US Chapter Event
END:VEVENT
END:VCALENDAR