BEGIN:VCALENDAR
VERSION:2.0
PRODID:-//Global Business Travel Association - GBTA - ECPv6.9.0//NONSGML v1.0//EN
CALSCALE:GREGORIAN
METHOD:PUBLISH
X-ORIGINAL-URL:https://gbta.org/es
X-WR-CALDESC:Eventos para Global Business Travel Association - GBTA
REFRESH-INTERVAL;VALUE=DURATION:PT1H
X-Robots-Tag:noindex
X-PUBLISHED-TTL:PT1H
BEGIN:VTIMEZONE
TZID:America/New_York
BEGIN:DAYLIGHT
TZOFFSETFROM:-0500
TZOFFSETTO:-0400
TZNAME:EDT
DTSTART:20250309T070000
END:DAYLIGHT
BEGIN:STANDARD
TZOFFSETFROM:-0400
TZOFFSETTO:-0500
TZNAME:EST
DTSTART:20251102T060000
END:STANDARD
END:VTIMEZONE
BEGIN:VEVENT
DTSTART;TZID=America/New_York:20250515T080000
DTEND;TZID=America/New_York:20250516T160000
DTSTAMP:20260420T010243
CREATED:20250505T102717Z
LAST-MODIFIED:20250512T110804Z
UID:22443-1747296000-1747411200@gbta.org
SUMMARY:Ohio Valley Quarter 2 Meeting - GTP Credit Approved
DESCRIPTION:
URL:https://gbta.org/es/event/ohio-valley-quarter-2-meeting/
CATEGORIES:North America,US Chapter Event
END:VEVENT
BEGIN:VEVENT
DTSTART;TZID=America/New_York:20250515T090000
DTEND;TZID=America/New_York:20250515T170000
DTSTAMP:20260420T010243
CREATED:20250505T102316Z
LAST-MODIFIED:20250505T102316Z
UID:22439-1747299600-1747328400@gbta.org
SUMMARY:GBTA Philadelphia Education Day
DESCRIPTION:GBTA Philadelphia \nJoin us for an exciting and informative Education Day with GBTA Philadelphia! This is your chance to dive into the latest trends shaping the business travel industry\, including cutting-edge technology\, sustainability practices\, and enhancements that are revolutionizing travel management. Network with fellow travel professionals\, exchange ideas\, and gain valuable insights to stay ahead of the curve. Plus\, don’t miss the chance to win some fantastic prizes in our raffle! Whether you’re looking to expand your knowledge or connect with travel industry leaders\, this event is a must-attend. We look forward to seeing you there! \nTopics & Panelists this year include: \nThe Cutting Edge in ACCESSIBLE TRAVEL\nFeatured Speaker: Andrew Slaiby\, Senior Global Travel Manager at RTX\nJoin us for an insightful session about the accessibility market and why it is important for your company. Andrew will share how Accessible Travel relates to your travel policy and what advances in accessible travel can you expect in 2025 AND beyond. \nNDC is COMING for your hotel Program – Are you Ready?\nModerator: Tim Wagner\, SVP of Procurement & Supplier Relations at HRS \nTim will detail the hotel distribution refinements that are on the horizon. Corporates have heard the phrase “attribute-based shopping\,” but what does it truly mean? The hotel distribution executive on the panel will share their definition\, why they are motivated to drive these distribution and shopping changes\, and the positive outcomes they foresee for the corporate procurement leaders and everyday business travelers. Panelist will discuss the steps he/she is taking to adjust their program to the “next” that is coming\, including a measured “weaning away” from the GDS. \nKey Objectives:\nA better understanding of why hoteliers are transforming legacy procurement + shopping processes.\nSteps corporates can take to reduce GDS dependency and access broader supplier content.\nAttendees will grasp the personalized automation in the mix\, and how it impacts hotel programs. \nGreening Your Travel Program: Crafting a Carbon Budget for Sustainable Success\nFeatured Speakers:\nMarianne Balfe\, VP of Sustainability at Highgate\nKelsey Frenkiel\, Director of the Sustainability Program at the GBTA Foundation \nLocation: Normandy Farm Hotel & Conference Center\n1401 Morris Rd\nBlue Bell\, PA 19422 \nPrice: see website for details
URL:https://gbta.org/es/event/gbta-philadelphia-education-day/
CATEGORIES:North America,US Chapter Event
END:VEVENT
BEGIN:VEVENT
DTSTART;TZID=America/New_York:20250515T093000
DTEND;TZID=America/New_York:20250515T130000
DTSTAMP:20260420T010243
CREATED:20250429T064712Z
LAST-MODIFIED:20250505T114354Z
UID:22344-1747301400-1747314000@gbta.org
SUMMARY:GBTA DFW Chapter Meeting - GTP Credit Approved
DESCRIPTION:GBTA DFW Chapter May Meeting\nTraveler Safety and Emergency Preparedness\nJonathan Simon\nHilton Anatole\, Dallas\n$50 Members $70 Guest of Member $75 Guest Non-Member
URL:https://gbta.org/es/event/gbta-dfw-chapter-meeting-2/
CATEGORIES:North America,US Chapter Event
END:VEVENT
END:VCALENDAR