BEGIN:VCALENDAR
VERSION:2.0
PRODID:-//Global Business Travel Association - GBTA - ECPv6.9.0//NONSGML v1.0//EN
CALSCALE:GREGORIAN
METHOD:PUBLISH
X-ORIGINAL-URL:https://gbta.org/es
X-WR-CALDESC:Eventos para Global Business Travel Association - GBTA
REFRESH-INTERVAL;VALUE=DURATION:PT1H
X-Robots-Tag:noindex
X-PUBLISHED-TTL:PT1H
BEGIN:VTIMEZONE
TZID:America/New_York
BEGIN:DAYLIGHT
TZOFFSETFROM:-0500
TZOFFSETTO:-0400
TZNAME:EDT
DTSTART:20250309T070000
END:DAYLIGHT
BEGIN:STANDARD
TZOFFSETFROM:-0400
TZOFFSETTO:-0500
TZNAME:EST
DTSTART:20251102T060000
END:STANDARD
END:VTIMEZONE
BEGIN:VEVENT
DTSTART;VALUE=DATE:20250520
DTEND;VALUE=DATE:20250523
DTSTAMP:20260420T031144
CREATED:20250123T190454Z
LAST-MODIFIED:20250123T190552Z
UID:20466-1747699200-1747958399@gbta.org
SUMMARY:GBTA Ladders Summit 2025
DESCRIPTION:The GBTA Ladders Summit is the premier event for professionals in the business travel industry. This exclusive gathering brings together current leaders and rising stars\, offering unique opportunities to learn\, network\, and shape the industry’s future. \nWhat to Expect \nAttendees will experience: \n\nCollaborative Sessions: Engage with top talent in a vibrant\, supportive setting.\nInspiring Presentations: Discover groundbreaking innovations presented by Ladders teams.\nExpert-Led Content: Grow both personally and professionally with targeted insights.\nNetworking Opportunities: Expand your circle with peers\, mentors\, and industry experts.\nExclusive Keynotes: Gain insights from leading keynote speakers and thought leaders.\n\nWho’s Attending? \n\nSeason 11 GBTA Ladders participants\, mentors\, alumni\, and board members\nGBTA alumni and representatives\nRenowned industry leaders and guest speakers\n\n\n\nLocation\nOmni Austin Hotel Downtown\n700 San Jacinto at 8th Street\, Austin\, Texas\, 78701 \nLearn More
URL:https://gbta.org/es/event/gbta-ladders-summit-2025/
CATEGORIES:Ladders,North America,Summits & Workshops
END:VEVENT
END:VCALENDAR