BEGIN:VCALENDAR
VERSION:2.0
PRODID:-//Global Business Travel Association - GBTA - ECPv6.9.0//NONSGML v1.0//EN
CALSCALE:GREGORIAN
METHOD:PUBLISH
X-WR-CALNAME:Global Business Travel Association - GBTA
X-ORIGINAL-URL:https://gbta.org/es
X-WR-CALDESC:Eventos para Global Business Travel Association - GBTA
REFRESH-INTERVAL;VALUE=DURATION:PT1H
X-Robots-Tag:noindex
X-PUBLISHED-TTL:PT1H
BEGIN:VTIMEZONE
TZID:America/New_York
BEGIN:DAYLIGHT
TZOFFSETFROM:-0500
TZOFFSETTO:-0400
TZNAME:EDT
DTSTART:20250309T070000
END:DAYLIGHT
BEGIN:STANDARD
TZOFFSETFROM:-0400
TZOFFSETTO:-0500
TZNAME:EST
DTSTART:20251102T060000
END:STANDARD
END:VTIMEZONE
BEGIN:VEVENT
DTSTART;TZID=America/New_York:20250603T140000
DTEND;TZID=America/New_York:20250603T150000
DTSTAMP:20260420T001833
CREATED:20250114T150119Z
LAST-MODIFIED:20250507T111649Z
UID:20088-1748959200-1748962800@gbta.org
SUMMARY:Regional Direct Talks - GBTA Canada
DESCRIPTION:GBTA Canada recognizes the importance of peer networking and best practice sharing. Unique to GBTA Canada are our Regional Direct (buyer) Talks. Direct (buyer) members gather virtually\, to exchange ideas\, and understand market dynamics. \nUpcoming 2025 Direct Talk:\n• June 3\, 2025 @ 2PM EST\n• September 25\, 2025 @ 2PM EST\n• December 4\, 2025 @ 2PM EST\nTo learn more and register for the GBTA Canada Direct Talks\, please contact: Canada@gbta.org
URL:https://gbta.org/es/event/regional-direct-talks-gbta-canada-2/
CATEGORIES:Canada,North America,US Chapter Event
END:VEVENT
END:VCALENDAR