BEGIN:VCALENDAR
VERSION:2.0
PRODID:-//Global Business Travel Association - GBTA - ECPv6.9.0//NONSGML v1.0//EN
CALSCALE:GREGORIAN
METHOD:PUBLISH
X-WR-CALNAME:Global Business Travel Association - GBTA
X-ORIGINAL-URL:https://gbta.org/es
X-WR-CALDESC:Eventos para Global Business Travel Association - GBTA
REFRESH-INTERVAL;VALUE=DURATION:PT1H
X-Robots-Tag:noindex
X-PUBLISHED-TTL:PT1H
BEGIN:VTIMEZONE
TZID:America/New_York
BEGIN:DAYLIGHT
TZOFFSETFROM:-0500
TZOFFSETTO:-0400
TZNAME:EDT
DTSTART:20250309T070000
END:DAYLIGHT
BEGIN:STANDARD
TZOFFSETFROM:-0400
TZOFFSETTO:-0500
TZNAME:EST
DTSTART:20251102T060000
END:STANDARD
END:VTIMEZONE
BEGIN:VEVENT
DTSTART;TZID=America/New_York:20250626T150000
DTEND;TZID=America/New_York:20250626T180000
DTSTAMP:20260420T001900
CREATED:20250529T141848Z
LAST-MODIFIED:20250605T064431Z
UID:23441-1750950000-1750960800@gbta.org
SUMMARY:GBTA Georgia June 26 Monthly Meeting - GTP Credit Approved
DESCRIPTION:GBTA Georgia\nJune 26\, 2025\, 3:00pm – 6:00pm \nTravel Accessibility For All \nEric Lipp\, Executive Director of Open Door Organization helps open the world for accessibility challenged individuals. From boarding planes\, to navigating plush hotel carpets\, what is normal for most travelers is not for those with handicaps. Try reading a sign printed thin pale gray on a white background when you have no idea where you are. Eric takes us beyond the obvious disabilities to open our eyes on how we can make travel easier to all of us. \n \nLocated in Chamblee\, GA and flying out of PDK\, Wheels Up is an exciting new venue for the GBTA Georgia Chapter. The meeting will launch at 3pm with our Guest Speaker\, and then an incredible tour of the Wheels Up Operations Center. A networking reception wraps up the day.
URL:https://gbta.org/es/event/gbta-georgia-june-26-monthly-meeting/
CATEGORIES:North America,US Chapter Event
END:VEVENT
END:VCALENDAR