BEGIN:VCALENDAR
VERSION:2.0
PRODID:-//Global Business Travel Association - GBTA - ECPv6.9.0//NONSGML v1.0//EN
CALSCALE:GREGORIAN
METHOD:PUBLISH
X-ORIGINAL-URL:https://gbta.org/es
X-WR-CALDESC:Eventos para Global Business Travel Association - GBTA
REFRESH-INTERVAL;VALUE=DURATION:PT1H
X-Robots-Tag:noindex
X-PUBLISHED-TTL:PT1H
BEGIN:VTIMEZONE
TZID:America/New_York
BEGIN:DAYLIGHT
TZOFFSETFROM:-0500
TZOFFSETTO:-0400
TZNAME:EDT
DTSTART:20250309T070000
END:DAYLIGHT
BEGIN:STANDARD
TZOFFSETFROM:-0400
TZOFFSETTO:-0500
TZNAME:EST
DTSTART:20251102T060000
END:STANDARD
END:VTIMEZONE
BEGIN:VEVENT
DTSTART;TZID=America/New_York:20250814T110000
DTEND;TZID=America/New_York:20250814T130000
DTSTAMP:20260419T194639
CREATED:20250715T090955Z
LAST-MODIFIED:20250716T171757Z
UID:24715-1755169200-1755176400@gbta.org
SUMMARY:Destination Development: Mapping Utah Valley’s Future - GTP Credit Approved
DESCRIPTION:Chapter/Committee/Partner Name: Utah \nDescription: A must-attend event for anyone passionate about the growth and potential of this dynamic region. Join key voices from the Provo Airport\, Breeze Airways\, and Explore Utah Valley as they share insights on infrastructure expansion\, air travel innovation\, and tourism strategies shaping the valley’s future. This engaging session will explore how collaborative efforts are unlocking new opportunities for economic development\, visitor experiences\, and community enrichment. Whether you’re a local stakeholder or a travel industry professional\, this meeting offers a front-row seat to the exciting journey ahead for Utah Valley. \n \nEvent Speaker:\nErin Scott – Director of Destination Sales for Explore Utah Valley\nBrian Torgersen – Director\, Provo Airport\nEric Walters – Director Pricing\, Revenue Management\, Distribution & Sales \nLocation of Event:\nClub 22 – Lavell Edwards Stadium\n1700 N Canyon Road\nProvo\, UT 84604 \nPrice: Guest – $35.00
URL:https://gbta.org/es/event/destination-development-mapping-utah-valleys-future/
CATEGORIES:North America,US Chapter Event
END:VEVENT
END:VCALENDAR