BEGIN:VCALENDAR
VERSION:2.0
PRODID:-//Global Business Travel Association - GBTA - ECPv6.9.0//NONSGML v1.0//EN
CALSCALE:GREGORIAN
METHOD:PUBLISH
X-ORIGINAL-URL:https://gbta.org/es
X-WR-CALDESC:Eventos para Global Business Travel Association - GBTA
REFRESH-INTERVAL;VALUE=DURATION:PT1H
X-Robots-Tag:noindex
X-PUBLISHED-TTL:PT1H
BEGIN:VTIMEZONE
TZID:America/New_York
BEGIN:DAYLIGHT
TZOFFSETFROM:-0500
TZOFFSETTO:-0400
TZNAME:EDT
DTSTART:20250309T070000
END:DAYLIGHT
BEGIN:STANDARD
TZOFFSETFROM:-0400
TZOFFSETTO:-0500
TZNAME:EST
DTSTART:20251102T060000
END:STANDARD
END:VTIMEZONE
BEGIN:VEVENT
DTSTART;TZID=America/New_York:20250827T180000
DTEND;TZID=America/New_York:20250827T210000
DTSTAMP:20260420T010207
CREATED:20250812T101847Z
LAST-MODIFIED:20250812T101847Z
UID:25356-1756317600-1756328400@gbta.org
SUMMARY:GBTA Las Vegas August 2025 - Networking at Top Golf!
DESCRIPTION:– Chapter/Committee/Partner Name: GBTA Las Vegas\n– Description:\nJoin us for an evening of casual networking\, friendly competition\, and great company at Topgolf Las Vegas! \nThis is your chance to connect with fellow business travel professionals in a fun\, laid-back setting. No golf experience required! Enjoy light bites\, drinks\, and conversations while taking a swing in one of Topgolf’s signature bays. \nWhether you’re perfecting your drive or just there for the networking\, we’d love to see you! \n🎟️ Tickets Include: Game play\, food & drinks\n🚗 Parking: Complimentary on-site \nSpace is limited\, so register early to reserve your spot! \n– Event Speaker: N/A\n– Location of Event: Top Golf Las Vegas\, 4627 Koval Lane\, Las Vegas\, NV 89109\n– Price: $40.00 Member Ticket\, $50.00 All Access Member Ticket\, $60.00 Non-Member Ticket
URL:https://gbta.org/es/event/gbta-las-vegas-august-2025-networking-at-top-golf/
CATEGORIES:North America,US Chapter Event
END:VEVENT
END:VCALENDAR