BEGIN:VCALENDAR
VERSION:2.0
PRODID:-//Global Business Travel Association - GBTA - ECPv6.9.0//NONSGML v1.0//EN
CALSCALE:GREGORIAN
METHOD:PUBLISH
X-ORIGINAL-URL:https://gbta.org/es
X-WR-CALDESC:Eventos para Global Business Travel Association - GBTA
REFRESH-INTERVAL;VALUE=DURATION:PT1H
X-Robots-Tag:noindex
X-PUBLISHED-TTL:PT1H
BEGIN:VTIMEZONE
TZID:America/New_York
BEGIN:DAYLIGHT
TZOFFSETFROM:-0500
TZOFFSETTO:-0400
TZNAME:EDT
DTSTART:20260308T070000
END:DAYLIGHT
BEGIN:STANDARD
TZOFFSETFROM:-0400
TZOFFSETTO:-0500
TZNAME:EST
DTSTART:20261101T060000
END:STANDARD
END:VTIMEZONE
BEGIN:VEVENT
DTSTART;VALUE=DATE:20260916
DTEND;VALUE=DATE:20260917
DTSTAMP:20260421T173632
CREATED:20260312T130144Z
LAST-MODIFIED:20260312T130144Z
UID:30699-1789516800-1789603199@gbta.org
SUMMARY:Carrefour des Experts 2026 | France
DESCRIPTION:Le Carrefour des Experts Travel & MICE par GBTA se tiendra au sein de l’IFTM Top Résa\, le salon professionnel du tourisme et des voyages\, en septembre 2026. Rejoignez-nous pour une série de tables rondes pour partager des retours d’expérience concrets et aborder les enjeux clés de l’industrie.
URL:https://gbta.org/es/event/carrefour-des-experts-2026-france/
CATEGORIES:Europe,France
END:VEVENT
END:VCALENDAR