BEGIN:VCALENDAR
VERSION:2.0
PRODID:-//Global Business Travel Association - GBTA - ECPv6.9.0//NONSGML v1.0//EN
CALSCALE:GREGORIAN
METHOD:PUBLISH
X-ORIGINAL-URL:https://gbta.org
X-WR-CALDESC:Events for Global Business Travel Association - GBTA
REFRESH-INTERVAL;VALUE=DURATION:PT1H
X-Robots-Tag:noindex
X-PUBLISHED-TTL:PT1H
BEGIN:VTIMEZONE
TZID:America/New_York
BEGIN:DAYLIGHT
TZOFFSETFROM:-0500
TZOFFSETTO:-0400
TZNAME:EDT
DTSTART:20220313T070000
END:DAYLIGHT
BEGIN:STANDARD
TZOFFSETFROM:-0400
TZOFFSETTO:-0500
TZNAME:EST
DTSTART:20221106T060000
END:STANDARD
END:VTIMEZONE
BEGIN:VEVENT
DTSTART;TZID=America/New_York:20221111T100000
DTEND;TZID=America/New_York:20221111T120000
DTSTAMP:20260423T192059
CREATED:20220803T181342Z
LAST-MODIFIED:20220826T201614Z
UID:3826-1668160800-1668168000@gbta.org
SUMMARY:Advanced Principles of Business Travel Management™
DESCRIPTION:Dates: November 11 and 18; December 2\, 9\, and 16 \nTime: 10:00 AM – 12:00 PM ET each day \nPricing: $450 member / $550 non member \nThe Advanced Principles of Business Travel Management™ course builds off of the Fundamentals curriculum to aid business travel professionals in increasing their knowledge of the industry while also expanding on their professional skills. This course is designed for travel buyers overseeing a managed business travel program and suppliers offering travel-related products and services. \nThe program covers 4 modules and includes 5 two-hour live sessions with an instructor. Participants will need to complete a recorded session and prep work prior to each virtual session. \nMORE INFORMATION\nREGISTER BY NOV. 4
URL:https://gbta.org/event/advanced-principles-of-business-travel-management/2022-11-11/
LOCATION:Virtual
CATEGORIES:Europe,Italy,Learning,North America,Summits & Workshops
END:VEVENT
END:VCALENDAR