BEGIN:VCALENDAR
VERSION:2.0
PRODID:-//Global Business Travel Association - GBTA - ECPv6.9.0//NONSGML v1.0//EN
CALSCALE:GREGORIAN
METHOD:PUBLISH
X-WR-CALNAME:Global Business Travel Association - GBTA
X-ORIGINAL-URL:https://gbta.org
X-WR-CALDESC:Events for Global Business Travel Association - GBTA
REFRESH-INTERVAL;VALUE=DURATION:PT1H
X-Robots-Tag:noindex
X-PUBLISHED-TTL:PT1H
BEGIN:VTIMEZONE
TZID:America/New_York
BEGIN:DAYLIGHT
TZOFFSETFROM:-0500
TZOFFSETTO:-0400
TZNAME:EDT
DTSTART:20220313T070000
END:DAYLIGHT
BEGIN:STANDARD
TZOFFSETFROM:-0400
TZOFFSETTO:-0500
TZNAME:EST
DTSTART:20221106T060000
END:STANDARD
END:VTIMEZONE
BEGIN:VEVENT
DTSTART;TZID=America/New_York:20221013T110000
DTEND;TZID=America/New_York:20221013T130000
DTSTAMP:20260420T064042
CREATED:20220731T120023Z
LAST-MODIFIED:20220824T125351Z
UID:3287-1665658800-1665666000@gbta.org
SUMMARY:Utah Chapter Tradeshow
DESCRIPTION:Registration \nOctober 13\, 2022\,  11:00 AM MDT – 1:00 PM MDT \nCome visit with vendors and direct members to create relationships and educate yourselves on their services and products. \nVenue: Embassy Suites\, 10333 S. Jordan Gateway\, South Jordan UT \nPricing: 35.00 per registrant
URL:https://gbta.org/event/utah-chapter-tradeshow/
LOCATION:in-person
CATEGORIES:North America,US Chapter Event
END:VEVENT
BEGIN:VEVENT
DTSTART;TZID=America/New_York:20221013T150000
DTEND;TZID=America/New_York:20221013T170000
DTSTAMP:20260420T064042
CREATED:20220915T202841Z
LAST-MODIFIED:20220915T223914Z
UID:7091-1665673200-1665680400@gbta.org
SUMMARY:North Central Chapter  - Oktoberfest Social/Networking Event
DESCRIPTION:We are hosting a social networking event on October 13 from 3:00-5:00 pm to celebrate Oktoberfest.  All are welcome. \nLocation of Event \nMinneapolis\, MN \nVenue Information \nThe Chambers Hotel\, Minneapolis 901 Hennepin Ave Minneapolis\, MN 55403 \nGuest fee – $75
URL:https://gbta.org/event/north-central-chapter-oktoberfest-social-networking-event/
LOCATION:in-person
CATEGORIES:US Chapter Event
END:VEVENT
END:VCALENDAR