BEGIN:VCALENDAR
VERSION:2.0
PRODID:-//Global Business Travel Association - GBTA - ECPv6.9.0//NONSGML v1.0//EN
CALSCALE:GREGORIAN
METHOD:PUBLISH
X-ORIGINAL-URL:https://gbta.org
X-WR-CALDESC:Events for Global Business Travel Association - GBTA
REFRESH-INTERVAL;VALUE=DURATION:PT1H
X-Robots-Tag:noindex
X-PUBLISHED-TTL:PT1H
BEGIN:VTIMEZONE
TZID:America/New_York
BEGIN:DAYLIGHT
TZOFFSETFROM:-0500
TZOFFSETTO:-0400
TZNAME:EDT
DTSTART:20220313T070000
END:DAYLIGHT
BEGIN:STANDARD
TZOFFSETFROM:-0400
TZOFFSETTO:-0500
TZNAME:EST
DTSTART:20221106T060000
END:STANDARD
END:VTIMEZONE
BEGIN:VEVENT
DTSTART;VALUE=DATE:20221102
DTEND;VALUE=DATE:20221103
DTSTAMP:20260420T050603
CREATED:20221017T200854Z
LAST-MODIFIED:20221021T151639Z
UID:7681-1667347200-1667433599@gbta.org
SUMMARY:New Jersey Chapter - Who\, What\, Where\, and How?? - GTP Credit Approved
DESCRIPTION:Most travel professionals can relate to one or more of these commonly asked questions:\n• I just got assigned to implement my company’s travel program –\n• WHAT DO I DO NOW?\n• I’m an experienced travel manager that needs to re-energize my travel program –\n• WHERE DO I START?\n• As a travel supplier –\n• HOW CAN\nI SUPPORT MY CLIENT AS THEY BUILD/EXPAND THEIR TRAVEL PROGRAM?\n• And\, lastly\,\n• WHO CAN\n• I LEAN ON TO KEEP CURRENT ON BUSINESS TRAVEL\n• RENDS AND KNOWLEDGE SHARING IN THE INDUSTRY? \nJoin us on November 2nd as we discuss how the role of the travel manager has changed through and following the pandemic\,\nwith an eye on the perspectives of new travel managers and veterans.\nEverything is new again when it comes to engagement and communications\nwith travelers and colleagues\,\nthe metrics that matter\, service\, and operations\,\nspend management priorities and more.\nPanel speakers consist of travel managers with a range of experience and two TMC leaders. \nEvent Speaker \nJay Campbell\, Co-Founder | The Company Dime \nLocation of Event \nPrinceton\, NJ \nVenue Information \nHyatt Regency – Laurea Restaurant\, 102 Carnegie Center Princeton\, NJ 08540
URL:https://gbta.org/event/new-jersey-chapter-who-what-where-and-how/
LOCATION:in-person
CATEGORIES:US Chapter Event
END:VEVENT
END:VCALENDAR