BEGIN:VCALENDAR
VERSION:2.0
PRODID:-//Global Business Travel Association - GBTA - ECPv6.9.0//NONSGML v1.0//EN
CALSCALE:GREGORIAN
METHOD:PUBLISH
X-WR-CALNAME:Global Business Travel Association - GBTA
X-ORIGINAL-URL:https://gbta.org
X-WR-CALDESC:Events for Global Business Travel Association - GBTA
REFRESH-INTERVAL;VALUE=DURATION:PT1H
X-Robots-Tag:noindex
X-PUBLISHED-TTL:PT1H
BEGIN:VTIMEZONE
TZID:America/New_York
BEGIN:DAYLIGHT
TZOFFSETFROM:-0500
TZOFFSETTO:-0400
TZNAME:EDT
DTSTART:20220313T070000
END:DAYLIGHT
BEGIN:STANDARD
TZOFFSETFROM:-0400
TZOFFSETTO:-0500
TZNAME:EST
DTSTART:20221106T060000
END:STANDARD
END:VTIMEZONE
BEGIN:VEVENT
DTSTART;TZID=America/New_York:20221129T130000
DTEND;TZID=America/New_York:20221129T140000
DTSTAMP:20260420T031130
CREATED:20221111T031238Z
LAST-MODIFIED:20221129T163818Z
UID:8040-1669726800-1669730400@gbta.org
SUMMARY:It’s your Duty to Care\, Canada! How to gain support and build meaningful policies to support a Travel Risk Management Program.
DESCRIPTION:Understanding the employee and organizational benefits of a Travel Risk Management program is a great foundational start. Join us on this webinar\, as we take participants through how to take your Travel Risk Management program to the next level\, and build the necessary steps to win over stakeholders and gain C-suite support as you develop a best-in-class program. \nChris Lewis VP Business Development Amex GBT   Laura Franceschini VP Global Procurement DBRS -Morningstar \nPrice\nComplimentary
URL:https://gbta.org/event/its-your-duty-to-care-canada-how-to-gain-support-and-build-meaningful-policies-to-support-a-travel-risk-management-program/
LOCATION:Virtual
CATEGORIES:North America,Online Courses & Webinars
END:VEVENT
END:VCALENDAR