BEGIN:VCALENDAR
VERSION:2.0
PRODID:-//Global Business Travel Association - GBTA - ECPv6.9.0//NONSGML v1.0//EN
CALSCALE:GREGORIAN
METHOD:PUBLISH
X-ORIGINAL-URL:https://gbta.org
X-WR-CALDESC:Events for Global Business Travel Association - GBTA
REFRESH-INTERVAL;VALUE=DURATION:PT1H
X-Robots-Tag:noindex
X-PUBLISHED-TTL:PT1H
BEGIN:VTIMEZONE
TZID:America/New_York
BEGIN:DAYLIGHT
TZOFFSETFROM:-0500
TZOFFSETTO:-0400
TZNAME:EDT
DTSTART:20220313T070000
END:DAYLIGHT
BEGIN:STANDARD
TZOFFSETFROM:-0400
TZOFFSETTO:-0500
TZNAME:EST
DTSTART:20221106T060000
END:STANDARD
END:VTIMEZONE
BEGIN:VEVENT
DTSTART;TZID=America/New_York:20221130T110000
DTEND;TZID=America/New_York:20221130T120000
DTSTAMP:20260420T031147
CREATED:20221027T112720Z
LAST-MODIFIED:20221031T180138Z
UID:7844-1669806000-1669809600@gbta.org
SUMMARY:The Dawn of the Employee-Centric Travel Program?
DESCRIPTION:11:00 am to 12:00pm Eastern Time \nThe primary goal of many managed travel programs is to limit cost. Recently\, travel programs have paid greater attention to traveler satisfaction/well-being. In a tight labor market with low unemployment and rising salaries\, an employee-centric travel program can help companies recruit and retain talent. Based on GBTA-Deem research\, this session will examine the role of the user/traveler experience in managed corporate travel. How well do travel programs serve the needs of business travelers? Is traveler experience more important than other objectives such as cost savings? How do travel programs measure employee satisfaction? Do travel programs adequately accommodate employees with disabilities and special needs? What perks and policy changes do business travelers value most? Which booking technology features and innovations are travel managers and business travelers most interested in? \nEvent Speaker \nDavid Grace\, President | Deem \n \nMade possible by \n \n 
URL:https://gbta.org/event/the-dawn-of-the-employee-centric-travel-program/
LOCATION:Virtual
CATEGORIES:Online Courses & Webinars
END:VEVENT
END:VCALENDAR