BEGIN:VCALENDAR
VERSION:2.0
PRODID:-//Global Business Travel Association - GBTA - ECPv6.9.0//NONSGML v1.0//EN
CALSCALE:GREGORIAN
METHOD:PUBLISH
X-WR-CALNAME:Global Business Travel Association - GBTA
X-ORIGINAL-URL:https://gbta.org
X-WR-CALDESC:Events for Global Business Travel Association - GBTA
REFRESH-INTERVAL;VALUE=DURATION:PT1H
X-Robots-Tag:noindex
X-PUBLISHED-TTL:PT1H
BEGIN:VTIMEZONE
TZID:America/New_York
BEGIN:DAYLIGHT
TZOFFSETFROM:-0500
TZOFFSETTO:-0400
TZNAME:EDT
DTSTART:20230312T070000
END:DAYLIGHT
BEGIN:STANDARD
TZOFFSETFROM:-0400
TZOFFSETTO:-0500
TZNAME:EST
DTSTART:20231105T060000
END:STANDARD
END:VTIMEZONE
BEGIN:VEVENT
DTSTART;VALUE=DATE:20230202
DTEND;VALUE=DATE:20230203
DTSTAMP:20260419T235229
CREATED:20230126T133836Z
LAST-MODIFIED:20230126T134108Z
UID:8907-1675296000-1675382399@gbta.org
SUMMARY:North Central Chapter - It’s Time to Share the Love of Travel & Events
DESCRIPTION:The past three years have had a major impact on the travel & tourism industry as we’ve battled unsurmountable challenges.  But our industry is resilient and is on the path to recovery – coming back stronger and more motivated than ever. \nPlease join your friends and colleagues as the members of GBTA North Central\, HSMAI – Minnesota Chapter\, MPI Minnesota Chapter\, and NACE Twin Cities gather for an afternoon of networking\, light bites\, and beverages.  Melvin Tennant\, the President and Chief Executive Officer of Meet Minneapolis\, will present on the travel & tourism industry\, where we have been\, where we are going\, and the importance that travel plays in our economy.  You will also have the opportunity to hear from each participating organization. \nEvent Speaker \nMelvin Tennant\, President and CEO | Meet Minneapolis \nLocation of Event \nMinneapolis\, MN \nVenue Information \nWestin Edina Galleria\, 3201 Galleria\, Edina\, MN 55435 \nPricing and Registration \n$25.00
URL:https://gbta.org/event/north-central-chapter-its-time-to-share-the-love-of-travel-events/
CATEGORIES:North America,US Chapter Event
END:VEVENT
END:VCALENDAR