BEGIN:VCALENDAR
VERSION:2.0
PRODID:-//Global Business Travel Association - GBTA - ECPv6.9.0//NONSGML v1.0//EN
CALSCALE:GREGORIAN
METHOD:PUBLISH
X-WR-CALNAME:Global Business Travel Association - GBTA
X-ORIGINAL-URL:https://gbta.org
X-WR-CALDESC:Events for Global Business Travel Association - GBTA
REFRESH-INTERVAL;VALUE=DURATION:PT1H
X-Robots-Tag:noindex
X-PUBLISHED-TTL:PT1H
BEGIN:VTIMEZONE
TZID:America/New_York
BEGIN:DAYLIGHT
TZOFFSETFROM:-0500
TZOFFSETTO:-0400
TZNAME:EDT
DTSTART:20230312T070000
END:DAYLIGHT
BEGIN:STANDARD
TZOFFSETFROM:-0400
TZOFFSETTO:-0500
TZNAME:EST
DTSTART:20231105T060000
END:STANDARD
END:VTIMEZONE
BEGIN:VEVENT
DTSTART;TZID=America/New_York:20230322T110000
DTEND;TZID=America/New_York:20230322T120000
DTSTAMP:20260420T005849
CREATED:20230224T093659Z
LAST-MODIFIED:20230306T070010Z
UID:9274-1679482800-1679486400@gbta.org
SUMMARY:How travel managers will succeed in 2023 - GTP Credit Approved
DESCRIPTION:Managed travel programs have evolved along with the role of the travel manager. New research from GBTA in partnership with Spotnana reveals the trends that will define success in corporate travel\, including: \n\nWhat are travel managers’ expectations overall for 2023 and beyond? When will different types of business travel resume and in what order?\nWhat are top priorities for travel management programs and how do those priorities align with the C-Suite’s goals?\nWhat components of their travel program do travel managers spend the most amount of time on and what are the biggest pain points they face?\nHow are travel programs embracing sustainability and where are the gaps to address for corporate travel at large?\n\nJoin Johnny Thorsen\, VP Partnerships at Spotnana\, and Chris Ely\, GBTA’s Research Director\, on this webinar for insights into what 2023 looks like for travel managers and how they are preparing for the future. \nSpeakers: \n\nJohnny Thorsen\nVP Partnerships\nSpotnana \nChris Ely\nResearch Director\nGBTA \nMade Possible by:
URL:https://gbta.org/event/how-travel-managers-will-succeed-in-2023/
CATEGORIES:Online Courses & Webinars
END:VEVENT
END:VCALENDAR