BEGIN:VCALENDAR
VERSION:2.0
PRODID:-//Global Business Travel Association - GBTA - ECPv6.9.0//NONSGML v1.0//EN
CALSCALE:GREGORIAN
METHOD:PUBLISH
X-WR-CALNAME:Global Business Travel Association - GBTA
X-ORIGINAL-URL:https://gbta.org
X-WR-CALDESC:Events for Global Business Travel Association - GBTA
REFRESH-INTERVAL;VALUE=DURATION:PT1H
X-Robots-Tag:noindex
X-PUBLISHED-TTL:PT1H
BEGIN:VTIMEZONE
TZID:America/New_York
BEGIN:DAYLIGHT
TZOFFSETFROM:-0500
TZOFFSETTO:-0400
TZNAME:EDT
DTSTART:20230312T070000
END:DAYLIGHT
BEGIN:STANDARD
TZOFFSETFROM:-0400
TZOFFSETTO:-0500
TZNAME:EST
DTSTART:20231105T060000
END:STANDARD
END:VTIMEZONE
BEGIN:VEVENT
DTSTART;VALUE=DATE:20230426
DTEND;VALUE=DATE:20230428
DTSTAMP:20260420T004733
CREATED:20221114T174824Z
LAST-MODIFIED:20230105T032646Z
UID:8063-1682467200-1682639999@gbta.org
SUMMARY:European Partner Event | ITM Conference 2023
DESCRIPTION:ITM returns to Brighton!  \nThe ITM team is delighted to ask you to join us in Brighton from 26 April to 27 April 2023 for our Energise Conference ! Join over 500 colleagues from the UK & Ireland business travel community as we bring you the very best speakers and content centred around our key conference themes of Diversity\, Equity & Inclusion\, Sustainability and Wellbeing. You can expect unrivalled networking opportunities and sessions tailored to educate\, inform\, connect and inspire. We promise you will be energized ! \nScott Davies\, ITM | CEO \n \nLearn More
URL:https://gbta.org/event/european-partner-event-itm-conference-2023/
LOCATION:in-person
CATEGORIES:Conference/Convention
END:VEVENT
END:VCALENDAR