BEGIN:VCALENDAR
VERSION:2.0
PRODID:-//Global Business Travel Association - GBTA - ECPv6.9.0//NONSGML v1.0//EN
CALSCALE:GREGORIAN
METHOD:PUBLISH
X-WR-CALNAME:Global Business Travel Association - GBTA
X-ORIGINAL-URL:https://gbta.org
X-WR-CALDESC:Events for Global Business Travel Association - GBTA
REFRESH-INTERVAL;VALUE=DURATION:PT1H
X-Robots-Tag:noindex
X-PUBLISHED-TTL:PT1H
BEGIN:VTIMEZONE
TZID:America/New_York
BEGIN:DAYLIGHT
TZOFFSETFROM:-0500
TZOFFSETTO:-0400
TZNAME:EDT
DTSTART:20230312T070000
END:DAYLIGHT
BEGIN:STANDARD
TZOFFSETFROM:-0400
TZOFFSETTO:-0500
TZNAME:EST
DTSTART:20231105T060000
END:STANDARD
END:VTIMEZONE
BEGIN:VEVENT
DTSTART;VALUE=DATE:20230511
DTEND;VALUE=DATE:20230512
DTSTAMP:20260419T213630
CREATED:20230504T102312Z
LAST-MODIFIED:20230508T104051Z
UID:10487-1683763200-1683849599@gbta.org
SUMMARY:Utah Chapter - May Monthly Meeting
DESCRIPTION:Darren Hughes is the Bid Lead for the Salt Lake City-Utah Committee for the Games. Darren’s role is to guide Utah’s ambition to host the 2030 or 2034 Olympic and Paralympic Winter Games through the IOC’s Future Host Election Process. \nDarren is a leading expert in the bidding for and delivery of major events. Over the past 25 years\, Darren has worked with the majority of major multi-sport bidders\, event owners and organizers across myriad projects\, with particular emphasis in the areas of bid management\, people\, and event planning. \nDarren began his event career over four years as the Director of Human Resources Planning and Operations at the Salt Lake 2002 Games.
URL:https://gbta.org/event/utah-chapter-may-monthly-meeting/
CATEGORIES:US Chapter Event
END:VEVENT
BEGIN:VEVENT
DTSTART;TZID=America/New_York:20230511T020000
DTEND;TZID=America/New_York:20230511T030000
DTSTAMP:20260419T213630
CREATED:20230503T083039Z
LAST-MODIFIED:20230503T084427Z
UID:10417-1683770400-1683774000@gbta.org
SUMMARY:Puget Sound Chapter - May General Meeting
DESCRIPTION:Selecting the right Travel Management Company (TMC) is one of the most important decision travel buyers make for their travel program. However\, today’s process for sourcing TMC’s is out-of-date\, inefficient\, and frequently falls short of expectations. \nJoin Bryan Holmes\, Founder of Bid Logic Solutions\, as he presents TMC Sourcing 2.0. In this presentation Bryan brings in critical thinking to the sourcing process\, while taking you on an insightful journey from TMC Sourcing 1.0\, where the TMC’s people are center stage\, to TMC Sourcing 2.0\, where the TMC’s technology is center stage—yet people still infinitely matter. \nThis presentation is critical to both buyers and sellers alike. Come prepared to learn pragmatic strategies to improve your decision making and sourcing (and even sales) skills\, and see why a recent attendee to this presentation had this to say: “Truly the most informative talk I have heard in a while. Bryan is a very engaging speaker with a talent for making complicated ideas very digestible. \nEvent Speaker \nBryan Holmes Bio \nBryan Holmes is the founder and CEO of Bid Logic Solutions Inc.\, a technology and business travel consulting firm singularly focused on TMC Sourcing. Prior to launching Bid Logic Solutions\, Bryan was a Senior Director of Retention for BCD Travel\, an Engagement Manager and Sr. Consultant for TCG Consulting\, and the Global Travel Manager for Broadcom Corporation\, where Bryan started his 20+ year career in Business Travel. \nLocation of Event \nCourtyard by Marriott Seattle–Bellevue / Downtown\n11010 Ne 8th Street\nBellevue\, WA 98004\nhttp://www.marriott.com/bvudt\nDirections
URL:https://gbta.org/event/puget-sound-chapter-may-general-meeting/
CATEGORIES:US Chapter Event
END:VEVENT
BEGIN:VEVENT
DTSTART;TZID=America/New_York:20230511T203000
DTEND;TZID=America/New_York:20230511T213000
DTSTAMP:20260419T213630
CREATED:20230418T070919Z
LAST-MODIFIED:20230424T044845Z
UID:10149-1683837000-1683840600@gbta.org
SUMMARY:North Central Chapter - 2023 Education Summit - GTP Credit Approved
DESCRIPTION:It will be an exciting day of industry education\, information and idea sharing starting with Keynote Speaker Katie Virtue from Festive Road\, who will discuss How to Get Internal Buy-In from Stakeholders. \nEvent Speaker \nKatie Virtue\, Consultant\, Festive Road \nLocation of Event \nJX Event Venue\, Stillwater\, MN 55082 \nPricing and Registration \n$135.00 Member Ticket\n$210.00 after 12:00 pm May 9\n$120.00 Earlybird rate before May 1 \n$160.00 Non-Member Ticket\n$235.00 after 12:00 pm May 9\n$135.00 Earlybird rate before May 1 \n$200.00 Member Trade Show Table\n$150.00 Earlybird rate before May 1 \n$275.00 Non-Member Trade Show Table\n$225.00 Earlybird rate before May 1
URL:https://gbta.org/event/north-central-chapter-2023-education-summit/
CATEGORIES:US Chapter Event
END:VEVENT
END:VCALENDAR