BEGIN:VCALENDAR
VERSION:2.0
PRODID:-//Global Business Travel Association - GBTA - ECPv6.9.0//NONSGML v1.0//EN
CALSCALE:GREGORIAN
METHOD:PUBLISH
X-ORIGINAL-URL:https://gbta.org
X-WR-CALDESC:Events for Global Business Travel Association - GBTA
REFRESH-INTERVAL;VALUE=DURATION:PT1H
X-Robots-Tag:noindex
X-PUBLISHED-TTL:PT1H
BEGIN:VTIMEZONE
TZID:America/New_York
BEGIN:DAYLIGHT
TZOFFSETFROM:-0500
TZOFFSETTO:-0400
TZNAME:EDT
DTSTART:20230312T070000
END:DAYLIGHT
BEGIN:STANDARD
TZOFFSETFROM:-0400
TZOFFSETTO:-0500
TZNAME:EST
DTSTART:20231105T060000
END:STANDARD
END:VTIMEZONE
BEGIN:VEVENT
DTSTART;TZID=America/New_York:20230713T120000
DTEND;TZID=America/New_York:20230713T130000
DTSTAMP:20260420T050554
CREATED:20230609T094819Z
LAST-MODIFIED:20230615T124247Z
UID:11235-1689249600-1689253200@gbta.org
SUMMARY:Hotel RFP trends - GTP Credit Approved
DESCRIPTION:Join us as we discuss the latest RFP trends from hotels as business picks up and the industry gears up for the 2024 RFP season. Find out the additional challenges affecting hotels in the last year that stood out as game changing trends for the industry. Additionally\, what are suppliers hearing from buyers that’s changing the way suppliers approach the upcoming RFP. This session will provide insight for both buyers and suppliers to manage a successful hotel RFP. You don’t want to miss this one! \nModerator \n\n\n\nBarbara Arena\, Global Category Manager | Festive Road @ Johnson & Johnson \nEvent Speaker \nElena Isaykina\, Hyatt Sales Force – Global Manager\nLaura Dinu\, Intercontinental Hotels Group – Director\, US Corporate West Global Sales America \nEvent Sponsor
URL:https://gbta.org/event/hotel-rfp-trends/
CATEGORIES:US Chapter Event
END:VEVENT
END:VCALENDAR