BEGIN:VCALENDAR
VERSION:2.0
PRODID:-//Global Business Travel Association - GBTA - ECPv6.9.0//NONSGML v1.0//EN
CALSCALE:GREGORIAN
METHOD:PUBLISH
X-WR-CALNAME:Global Business Travel Association - GBTA
X-ORIGINAL-URL:https://gbta.org
X-WR-CALDESC:Events for Global Business Travel Association - GBTA
REFRESH-INTERVAL;VALUE=DURATION:PT1H
X-Robots-Tag:noindex
X-PUBLISHED-TTL:PT1H
BEGIN:VTIMEZONE
TZID:America/New_York
BEGIN:DAYLIGHT
TZOFFSETFROM:-0500
TZOFFSETTO:-0400
TZNAME:EDT
DTSTART:20230312T070000
END:DAYLIGHT
BEGIN:STANDARD
TZOFFSETFROM:-0400
TZOFFSETTO:-0500
TZNAME:EST
DTSTART:20231105T060000
END:STANDARD
END:VTIMEZONE
BEGIN:VEVENT
DTSTART;VALUE=DATE:20230720
DTEND;VALUE=DATE:20230721
DTSTAMP:20260420T050409
CREATED:20230630T135759Z
LAST-MODIFIED:20230630T135959Z
UID:11728-1689811200-1689897599@gbta.org
SUMMARY:GBTA | Puget Sound - SEA Airport Update
DESCRIPTION:SEA Airport Update \nDon’t miss out on one of our most attended meetings during the year at the SEA Airport. Hopefully\, by now some of you have experienced their International Arrivals Facility (IAF) at SEA\, but what’s next in the facilities pipeline? What are the latest initiatives to improve the passenger experience? What new restaurants and lounges are set to open soon? Please join us for an informative overview of the latest developments at Seattle-Tacoma International Airport. We are excited to once again be meeting and hearing from the leadership team at SEA. \nSEA will provide updates on the following topics\, with a Q&A session at the end of the program: \nAirport Recovery and Air Service Trends\nCustomer Experience\nCapital Projects\nAirport Dining and Retail (ADR) and Lounges\nLocation: Seattle-Tacoma International Airport\, International Conference Room \nDue to the size of the meeting room\, we have a maximum capacity threshold\, so please register early! \nWe look forward to seeing you there. \nLocation of Event \nHeld at SEA Airport – In-Person\nSeattle Airport\n17801 International Blvd\nSeattle\, WA 98158\nhttp://www.portseattle.org/Sea-Tac/Pages/default.aspx \nPricing and Registration \n$60.00 Members\n$85.00 after 11:00 pm July 15 \n$75.00 Non-Members\n$100.00 after 11:00 pm July 15 \n$10.00 Bingo – 3 tickets for $10 \n$60.00 All Access GBTA Member Ticket\n$85.00 after 11:00 pm July 15
URL:https://gbta.org/event/gbta-puget-sound-sea-airport-update/
CATEGORIES:US Chapter Event
END:VEVENT
BEGIN:VEVENT
DTSTART;VALUE=DATE:20230720
DTEND;VALUE=DATE:20230721
DTSTAMP:20260420T050409
CREATED:20230704T124850Z
LAST-MODIFIED:20230711T165809Z
UID:11747-1689811200-1689897599@gbta.org
SUMMARY:The Sustainability Journey from a Hotel Perspective
DESCRIPTION:Brought to by the GBTA Sustainability Committee APAC \nJoin us for a fireside chat with John Timson\, VP of Sustainability and Safety with Accor Hotels. Diving into topics such as distinguishing common practice sustainable initiatives from best-practice\, the biggest challenges the hotel industry is facing in the race to net-zero\, and the types of discussions buyers should be having with their hotel partners. John will be interviewed by Jaclynn Kidd\, Practice Lead\, Responsible Travel Consulting\, CWT Solutions Group. \nWhen: 20th July\, Thursday\, 2pm SGT / 8am CET\nCharge: Complimentary
URL:https://gbta.org/event/the-sustainability-journey-from-a-hotel-perspective/
CATEGORIES:APAC,Online Courses & Webinars,Sustainability
END:VEVENT
BEGIN:VEVENT
DTSTART;VALUE=DATE:20230720
DTEND;VALUE=DATE:20230721
DTSTAMP:20260420T050409
CREATED:20230717T075032Z
LAST-MODIFIED:20230725T075324Z
UID:11883-1689811200-1689897599@gbta.org
SUMMARY:GBTA Oregon Presents: July 2023 Educational Lunch -Buyers Panel - GTP Credit Approved
DESCRIPTION:The role of travel buyer or ‘Travel Manager’ is rolled into varying functional areas at most companies. These might include Sourcing\, Accounting\, Human Resources\, Administration or Indirect Procurement. Join us for a dynamic panel discussion where non-dedicated travel buyers/managers will discuss how their business travel responsibilities align with those of their full-time jobs. And the unique challenges they face related to managing a business travel program with limited resources. \nModerator  \nJerry Underwood – Global Travel Manager\, Columbia Sportswear \nPanelists \nJoelle Latcu – Sr. Manager of HR Experience\, KinderCare Learning Companies\nAmy Stender – Sr. Sourcing Manager – Travel\, NWEA\nTim Ackman -Corporate Sales Manager\, Alaska Airlines\nAnnmarie E. Bruning- Accounting\, Hoffman Construction Company\nKristina Davis – Accounting Operations Manager\, BIOTRONIK\nJill Lutz – Travel Team Lead\, Fisher Investments \nPricing and Registration \n$50.00 Direct Member Educational Luncheon Fee\n$65.00 after 12:00 am July 15 \n$50.00 Allied Member Educational Luncheon Fee\n$65.00 after 12:00 am July 15 \n$65.00 Guest Educational Luncheon Fee\n$80.00 after 12:00 am July 15 \n$50.00 GBTA All Access Direct Member Educational Luncheon Fee\n$65.00 after 12:00 am July 15 \n$50.00 GBTA All Access Allied Member Educational Luncheon Fee\n$65.00 after 12:00 am July 15 \n$55.00 MPI Registration\n$70.00 after 12:00 am July 15 \n$10.00 Raffle Ticket (1)\n$20.00 Raffle Ticket (3)\n$10.00 Raffle Ticket (1)\n$20.00 Raffle Ticket (3)
URL:https://gbta.org/event/gbta-oregon-presents-july-2023-educational-lunch-buyers-panel/
CATEGORIES:US Chapter Event
END:VEVENT
BEGIN:VEVENT
DTSTART;TZID=America/New_York:20230720T170000
DTEND;TZID=America/New_York:20230720T200000
DTSTAMP:20260420T050409
CREATED:20230627T160843Z
LAST-MODIFIED:20230719T114508Z
UID:11665-1689872400-1689883200@gbta.org
SUMMARY:GBTA Bay Area Chapter - DEI - Spotlight on Disability\, Mobility and Accessibility in Travel - GTP Credit Approved
DESCRIPTION:Come out and join the GBTA|Bay Area DEI team as we have planned a wonderful event: Spotlight on Disability\, Mobility and Accessibility in Travel. Our main speaker is a vision impaired traveler who will provide her perspectives and insights. There will be a Travel Industry panel discussion to include Airlines representatives\, Hotel Representatives and Corporate Travel Managers support to travelers with special needs. Our intention is to promote discussion arounds needs/opportunities while raising awareness for travelers with disabilities. \nPanelists \nAlicia Connor\, Registered Dietitian Nutritionist & Chef | Vision Impaired Frequent Traveler | Guest Speaker \nKevin Sullivan\, Managing Director | Southwest Airlines \nSteve Nelson\, Accessibility/Diversity Program Manager | Alaska Airlines \nJudy Emma\, Global Corporate Travel Manager | Intapp \nJill Plemons\, Director of Sales & Marketing | Beacon Grand \nKate Ellison\, Director of Transient Sales | Grand Hyatt San Francisco \nLocation of Event \nBeacon Grand
URL:https://gbta.org/event/gbta-bay-area-chapter-dei-spotlight-on-disability-mobility-and-accessibility-in-travel/
CATEGORIES:US Chapter Event
END:VEVENT
END:VCALENDAR