BEGIN:VCALENDAR
VERSION:2.0
PRODID:-//Global Business Travel Association - GBTA - ECPv6.9.0//NONSGML v1.0//EN
CALSCALE:GREGORIAN
METHOD:PUBLISH
X-WR-CALNAME:Global Business Travel Association - GBTA
X-ORIGINAL-URL:https://gbta.org
X-WR-CALDESC:Events for Global Business Travel Association - GBTA
REFRESH-INTERVAL;VALUE=DURATION:PT1H
X-Robots-Tag:noindex
X-PUBLISHED-TTL:PT1H
BEGIN:VTIMEZONE
TZID:America/New_York
BEGIN:DAYLIGHT
TZOFFSETFROM:-0500
TZOFFSETTO:-0400
TZNAME:EDT
DTSTART:20230312T070000
END:DAYLIGHT
BEGIN:STANDARD
TZOFFSETFROM:-0400
TZOFFSETTO:-0500
TZNAME:EST
DTSTART:20231105T060000
END:STANDARD
END:VTIMEZONE
BEGIN:VEVENT
DTSTART;TZID=America/New_York:20230928T080000
DTEND;TZID=America/New_York:20230928T153000
DTSTAMP:20260420T074304
CREATED:20230918T124007Z
LAST-MODIFIED:20230918T130015Z
UID:12773-1695888000-1695915000@gbta.org
SUMMARY:GBTA Michigan Chapter - Annual Meeting & Tradeshow
DESCRIPTION:Mark your calendar for the Annual Meeting & Tradeshow! Get ready for compelling education sessions\, expo tables\, a Direct Member benchmarking session\, and a networking reception the night before! Educational Topics include “The Problems and Solutions to Corporate Travel “Leakage” and “How to NDC-Proof Your Program” \nEvent Speaker \nJustin Morris – Director of Sales\, Traxo\nSuzanne Boyan – Travel & Meetings Manager\, ZS Associates \nLocation of Event \nEmbassy Suites Detroit – Livonia/Novi\n19525 Victor Pkwy\nLivonia\, MI 48152 \nThank you to Platinum sponsors
URL:https://gbta.org/event/gbta-michigan-chapter-annual-meeting-tradeshow/
CATEGORIES:US Chapter Event
END:VEVENT
END:VCALENDAR