BEGIN:VCALENDAR
VERSION:2.0
PRODID:-//Global Business Travel Association - GBTA - ECPv6.9.0//NONSGML v1.0//EN
CALSCALE:GREGORIAN
METHOD:PUBLISH
X-ORIGINAL-URL:https://gbta.org
X-WR-CALDESC:Events for Global Business Travel Association - GBTA
REFRESH-INTERVAL;VALUE=DURATION:PT1H
X-Robots-Tag:noindex
X-PUBLISHED-TTL:PT1H
BEGIN:VTIMEZONE
TZID:America/New_York
BEGIN:DAYLIGHT
TZOFFSETFROM:-0500
TZOFFSETTO:-0400
TZNAME:EDT
DTSTART:20240310T070000
END:DAYLIGHT
BEGIN:STANDARD
TZOFFSETFROM:-0400
TZOFFSETTO:-0500
TZNAME:EST
DTSTART:20241103T060000
END:STANDARD
END:VTIMEZONE
BEGIN:VEVENT
DTSTART;TZID=America/New_York:20240131T110000
DTEND;TZID=America/New_York:20240131T120000
DTSTAMP:20260421T212648
CREATED:20240105T115917Z
LAST-MODIFIED:20240112T104431Z
UID:14000-1706698800-1706702400@gbta.org
SUMMARY:The Future of Travel Data and Analytics
DESCRIPTION:It’s time to move beyond tracking a few basic travel program KPIs. Register for this webinar with content developed by Spotnana to hear how leaders at Salesforce\, SAS\, and International SOS see the opportunity for richer insights and better duty of care integrations through modern travel technology. \nModerator: \n\nJohnny Thorsen\, VP of Business Development for Content Distribution at Spotnana \nSpeakers: \nRichard Clowes\, Senior Director\, Travel Operations at SAS \n\nWendy Stachowiak\, VP Global Travel Industry\, at  International SOS\, \n\nDorian Stonie\, Senior Director Global Travel at Salesforce \nMade possible by:
URL:https://gbta.org/event/the-future-of-travel-data-and-analytics/
CATEGORIES:North America,Online Courses & Webinars
END:VEVENT
END:VCALENDAR